BEGIN:VCALENDAR
VERSION:2.0
PRODID:-//ChamberMaster//Event Calendar 2.0//EN
METHOD:PUBLISH
X-PUBLISHED-TTL:P3D
REFRESH-INTERVAL:P3D
CALSCALE:GREGORIAN
BEGIN:VEVENT
DTSTART:20230608T210000Z
DTEND:20230608T223000Z
X-MICROSOFT-CDO-ALLDAYEVENT:FALSE
SUMMARY:Community Focus Group: The State of NIC Athletics
DESCRIPTION:Join North Idaho College administrators and coaches to discuss the current state of the Athletics program. A brief history of the program\, current and past conference affiliations\, future aspirations\, facilities\, and more. There will also be opportunities for group discussion and a question-and-answer period. This community forum will be led by Dr. Nick Swayne\, President\, Shawn Noel\, Director of Athletics and Recreation\, and Alex Harris\, Dean of Students.
X-ALT-DESC;FMTTYPE=text/html:<p>Join North Idaho College administrators and coaches to discuss the current state of the Athletics program. A brief history of the program\, current and past conference affiliations\, future aspirations\, facilities\, and more. There will also be opportunities for group discussion and a question-and-answer period. This community forum will be led by Dr. Nick Swayne\, President\, Shawn Noel\, Director of Athletics and Recreation\, and Alex Harris\, Dean of Students.<br />\n&nbsp\;</p>\n
LOCATION:North Idaho College Lake Coeur d'Alene room (2nd floor) of Edminster Student Union Building 495 College Dr. Coeur d'Alene\, ID 83814
UID:e.843.28702
SEQUENCE:3
DTSTAMP:20260423T123618Z
URL:http://directory.cdachamber.com/events/details/community-focus-group-the-state-of-nic-athletics-28702
END:VEVENT

END:VCALENDAR
