BEGIN:VCALENDAR
VERSION:2.0
PRODID:-//ChamberMaster//Event Calendar 2.0//EN
METHOD:PUBLISH
X-PUBLISHED-TTL:P3D
REFRESH-INTERVAL:P3D
CALSCALE:GREGORIAN
BEGIN:VEVENT
DTSTART:20230503T210000Z
DTEND:20230503T223000Z
X-MICROSOFT-CDO-ALLDAYEVENT:FALSE
SUMMARY:Community Focus Group: Addressing NIC Accreditation Part II
DESCRIPTION:Does all this talk about the potential loss of accreditation for North Idaho College have you confused and concerned?\n\n\n\nJOIN US!  Brought to you by the Coeur d'Alene Regional Chamber\, and the Coeur d'Alene Area Economic Development Corporation\, North Idaho College will be leading a free community focus group on Wednesday\, May 3\, from 2PM - 3:30PM in the Lake Coeur d'Alene Room (2nd floor) of Edminster Student Union Building.\n\n\n\nFacilitated by Dr. Nick Swayne\, President\, senior leaders at NIC will:\n\n\n	Address key questions and concerns about the potential loss of accreditation.\n	Update the public on the recent NCCU (Northwest Commission on Colleges and Universities) visit.\n	Discuss next steps in the process to retain accreditation.
X-ALT-DESC;FMTTYPE=text/html:<p>Does all this talk about the potential loss of accreditation for North Idaho College have you confused and concerned?<br />\n<br />\nJOIN US!&nbsp\; Brought to you by the Coeur d&#39\;Alene Regional Chamber\, and the Coeur d&#39\;Alene Area Economic Development Corporation\, North Idaho College will be leading a free community focus group on Wednesday\, May 3\, from 2PM - 3:30PM in the Lake Coeur d&rsquo\;Alene Room (2nd floor) of Edminster Student Union Building.<br />\n<br />\nFacilitated by Dr. Nick Swayne\, President\, senior leaders at NIC will:</p>\n\n<ul>\n	<li>Address key questions and concerns about the potential loss of accreditation.</li>\n	<li>Update the public on the recent NCCU (Northwest Commission on Colleges and Universities) visit.</li>\n	<li>Discuss next steps in the process to retain accreditation.</li>\n</ul>\n
LOCATION:North Idaho College Lake Coeur d'Alene room (2nd floor) of Edminster Student Union Building 495 College Dr. Coeur d'Alene\, ID 83814
UID:e.843.28668
SEQUENCE:3
DTSTAMP:20260423T162140Z
URL:http://directory.cdachamber.com/events/details/community-focus-group-addressing-nic-accreditation-part-ii-28668
END:VEVENT

END:VCALENDAR
