BEGIN:VCALENDAR
VERSION:2.0
PRODID:-//ChamberMaster//Event Calendar 2.0//EN
METHOD:PUBLISH
X-PUBLISHED-TTL:P3D
REFRESH-INTERVAL:P3D
CALSCALE:GREGORIAN
BEGIN:VEVENT
DTSTART:20240321T223000Z
DTEND:20240322T003000Z
X-MICROSOFT-CDO-ALLDAYEVENT:FALSE
SUMMARY:Community Conversations: The Health of our Community
DESCRIPTION:Community Conversations: The Health of Our Community\n\n\n\nForum 1 Topic: Labor Force Challenges and Successes at Play in Our Community\n\nThis free forum is designed to foster a comprehensive understanding of the intricate connections between education\, healthcare\, and business in North Idaho. This series provides a platform for the public to engage with senior leaders from key institutions such as North Idaho College\, the region's key education and workforce training partner\, Kootenai Health\, North Idaho's community hospital and largest employer\, and various business leaders from the Coeur d'Alene Regional Chamber community. Attendees will gain insights into the integrated systems that form the backbone of community well-being\, exploring the interdependence of education\, health\, and business. The forum will spotlight risk areas\, emphasize the collaborative efforts necessary for resilient systems\, and highlight the overall impact on the health of the community. By delving into the intersections of these vital components\, the forum aims to promote dialogue and understanding\, ultimately contributing to our community's access to essential resources such as healthcare\, education\, and employment opportunities. \n\n\n\nPurpose:\n\n\n	Facilitate Civil Dialogue: We aim to create a welcoming space where community members can engage in constructive conversations\, exchange diverse perspectives\, and explore various viewpoints in a respectful manner.\n	Address Important Issues: These forums serve as a vital platform for identifying and addressing pressing issues that affect our community's well-being\, ranging from social\, economic\, environmental\, to cultural concerns.\n	Capture Concerns and Ideas: By actively listening to the voices of our community members\, we endeavor to capture their concerns\, suggestions\, and innovative ideas for potential solutions. This enables us to better understand the needs and aspirations of our diverse community.\n\nDesired Outcomes:\n\n\n	Increased Awareness: We aim to raise awareness about significant issues impacting our community\, ensuring that residents are well-informed and empowered to participate in decision-making processes.\n	Collaborative Solutions: Through collaborative discussions and idea-sharing\, we seek to develop actionable solutions and initiatives that address identified challenges and improve the quality of life for everyone in our community.\n	Strengthened Community Bonds: By coming together to discuss common challenges and opportunities\, we hope to strengthen bonds within our community\, foster empathy\, and build a sense of solidarity among residents.\n\nYour participation in these forums is invaluable\, and we encourage you to actively engage\, share your perspectives\, and contribute to shaping a brighter future for our community.\n\n\n\nAgenda and Speakers\n\n \n\n	\n		\n			3:30PM \n			Introduction   Jim Hammond\, Mayor\, City of Coeur d'Alene \n		\n		\n			3:40PM \n			Welcome Jamie Smith\, New CEO\, Kootenai Health \n		\n		\n			3:45PM \n			Setting the Stage   Tyrel Stevenson\, Legislative Director\, CDA Tribe and Chair Elect\, Coeur d'Alene Regional Chamber \n		\n		\n			3:50PM \n			Panelist General Remarks on Challenge and Opportunity Themes \n		\n		\n			4:20PM \n			Panel Discussion moderated by Tyrel Stevenson \n\n			North Idaho College:  Dr. Nick Swayne\, President and Erlene Pickett\, Associate Dean of Nursing and Health Professions \n\n			Kootenai Health:  Kelly Espinoza\, PhD\, RN\, Chief Nursing Officer\, and Collin Furukawa\, EVP Strategy and Business Development\n\n			 \n		\n		\n			5:10PM \n			Table discussions & survey responses \n		\n		\n			5:25PM \n			Next steps and closing
X-ALT-DESC;FMTTYPE=text/html:<span class="TextRun SCXW138582874 BCX8" data-contrast="none" lang="EN" style="margin: 0px\; padding: 0px\; user-select: text\; -webkit-user-drag: none\; -webkit-tap-highlight-color: transparent\; font-style: normal\; white-space-collapse: preserve\; font-size: 10pt\; line-height: 17.25px\; font-family: Arial\, Arial_EmbeddedFont\, Arial_MSFontService\, sans-serif\; font-variant-ligatures: none !important\;" xml:lang="EN"><span class="NormalTextRun SCXW138582874 BCX8" style="margin: 0px\; padding: 0px\; user-select: text\; -webkit-user-drag: none\; -webkit-tap-highlight-color: transparent\;"><span style="font-size:18px\;"><span style="font-family:arial\;"><strong>Community Conversations: The Health of Our Community</strong></span></span><br />\n<br />\n<span style="font-size:14px\;"><span style="font-family:arial\;"><strong>Forum 1 Topic: Labor Force Challenges and Successes at Play in Our Community</strong><br />\nThis </span></span></span><span style="font-size:14px\;"><span style="font-family:arial\;"><span class="NormalTextRun SCXW138582874 BCX8" style="margin: 0px\; padding: 0px\; user-select: text\; -webkit-user-drag: none\; -webkit-tap-highlight-color: transparent\;">free forum </span><span class="NormalTextRun SCXW138582874 BCX8" style="margin: 0px\; padding: 0px\; user-select: text\; -webkit-user-drag: none\; -webkit-tap-highlight-color: transparent\;">is </span><span class="NormalTextRun SCXW138582874 BCX8" style="margin: 0px\; padding: 0px\; user-select: text\; -webkit-user-drag: none\; -webkit-tap-highlight-color: transparent\;">designed to foster a comprehensive understanding of the intricate connections between education\, healthcare\, and business in North Idaho. This series provides a platform for the public to</span><span class="NormalTextRun SCXW138582874 BCX8" style="margin: 0px\; padding: 0px\; user-select: text\; -webkit-user-drag: none\; -webkit-tap-highlight-color: transparent\;"> engage with senior leaders from key institutions such as North Idaho College\, the region&#39\;s key education and workforce training partner\, Kootenai Health\, North Idaho&rsquo\;s community hospital and largest employer\, and various business leaders from the Coeur d&#39\;</span><span class="NormalTextRun SCXW138582874 BCX8" style="margin: 0px\; padding: 0px\; user-select: text\; -webkit-user-drag: none\; -webkit-tap-highlight-color: transparent\;">Alene Regional Chamber community. Attendees will gain insights into the integrated systems that form the backbone of community well-being\, exploring the interdependence of education\, health\, and business. The forum will spotlight risk areas\, emphasize the </span><span class="NormalTextRun SCXW138582874 BCX8" style="margin: 0px\; padding: 0px\; user-select: text\; -webkit-user-drag: none\; -webkit-tap-highlight-color: transparent\;">collaborative efforts necessary for resilient systems\, and highlight the overall impact on the health of the community. By delving into the intersections of these vital components\, the forum aims to promote dialogue and understanding\, ultimately contributi</span><span class="NormalTextRun SCXW138582874 BCX8" style="margin: 0px\; padding: 0px\; user-select: text\; -webkit-user-drag: none\; -webkit-tap-highlight-color: transparent\;">ng to our community&rsquo\;s access to essential resources such as healthcare\, education\, and employment opportunities.</span></span></span></span><span style="font-size:14px\;"><span style="font-family:arial\;"><span class="EOP SCXW138582874 BCX8" data-ccp-props="{" style="margin: 0px\; padding: 0px\; user-select: text\; -webkit-user-drag: none\; -webkit-tap-highlight-color: transparent\; white-space-collapse: preserve\; line-height: 17.25px\;">&nbsp\;</span><br />\n<br />\n<strong>Purpose:</strong></span></span>\n\n<ul>\n	<li style="margin-left:0in\;"><span style="font-size:14px\;"><span style="font-family:arial\;"><strong>Facilitate Civil Dialogue:</strong> We aim to create a welcoming space where community members can engage in constructive conversations\, exchange diverse perspectives\, and explore various viewpoints in a respectful manner.</span></span></li>\n	<li style="margin-left:0in\;"><span style="font-size:14px\;"><span style="font-family:arial\;"><strong>Address Important Issues:</strong> These forums serve as a vital platform for identifying and addressing pressing issues that affect our community&#39\;s well-being\, ranging from social\, economic\, environmental\, to cultural concerns.</span></span></li>\n	<li style="margin-left:0in\;"><span style="font-size:14px\;"><span style="font-family:arial\;"><strong>Capture Concerns and Ideas:</strong> By actively listening to the voices of our community members\, we endeavor to capture their concerns\, suggestions\, and innovative ideas for potential solutions. This enables us to better understand the needs and aspirations of our diverse community.</span></span></li>\n</ul>\n<span style="font-size:14px\;"><span style="font-family:arial\;"><strong>Desired Outcomes:</strong></span></span>\n\n<ul>\n	<li style="margin-left:0in\;"><span style="font-size:14px\;"><span style="font-family:arial\;"><strong>Increased Awareness:</strong> We aim to raise awareness about significant issues impacting our community\, ensuring that residents are well-informed and empowered to participate in decision-making processes.</span></span></li>\n	<li style="margin-left:0in\;"><span style="font-size:14px\;"><span style="font-family:arial\;"><strong>Collaborative Solutions:</strong> Through collaborative discussions and idea-sharing\, we seek to develop actionable solutions and initiatives that address identified challenges and improve the quality of life for everyone in our community.</span></span></li>\n	<li style="margin-left:0in\;"><span style="font-size:14px\;"><span style="font-family:arial\;"><strong>Strengthened Community Bonds:</strong> By coming together to discuss common challenges and opportunities\, we hope to strengthen bonds within our community\, foster empathy\, and build a sense of solidarity among residents.</span></span></li>\n</ul>\n<span style="font-size:14px\;"><span style="font-family:arial\;">Your participation in these forums is invaluable\, and we encourage you to actively engage\, share your perspectives\, and contribute to shaping a brighter future for our community.<br />\n<br />\n<strong>Agenda&nbsp\;and Speakers</strong></span></span><br />\n&nbsp\;\n<table border="1" cellpadding="0" cellspacing="0" style="border-collapse:collapse\;" width="0">\n	<tbody>\n		<tr style="height:37px\;">\n			<td style="width:65px\;border:solid black 1.0pt\;padding:.7pt 1.45pt .7pt .05in\;height:37px\;"><span style="font-size:14px\;"><span style="font-family:arial\;">3:30PM&nbsp\;</span></span></td>\n			<td style="width:526px\;border:solid black 1.0pt\;border-left:none\;padding:.7pt 1.45pt .7pt .05in\;height:37px\;"><span style="font-size:14px\;"><span style="font-family:arial\;">Introduction &ndash\; Jim Hammond\, Mayor\, City of Coeur d&rsquo\;Alene </span></span></td>\n		</tr>\n		<tr style="height:41px\;">\n			<td style="width:65px\;border:solid black 1.0pt\;border-top:none\;padding:.7pt 1.45pt .7pt .05in\;height:41px\;"><span style="font-size:14px\;"><span style="font-family:arial\;">3:40PM&nbsp\;</span></span></td>\n			<td style="width:526px\;border-top:none\;border-left:none\;border-bottom:solid black 1.0pt\;border-right:solid black 1.0pt\;padding:.7pt 1.45pt .7pt .05in\;height:41px\;"><span style="font-size:14px\;"><span style="font-family:arial\;">Welcome Jamie Smith\, New CEO\, Kootenai Health&nbsp\;</span></span></td>\n		</tr>\n		<tr style="height:53px\;">\n			<td style="width:65px\;border:solid black 1.0pt\;border-top:none\;padding:.7pt 1.45pt .7pt .05in\;height:53px\;"><span style="font-size:14px\;"><span style="font-family:arial\;">3:45PM&nbsp\;</span></span></td>\n			<td style="width:526px\;border-top:none\;border-left:none\;border-bottom:solid black 1.0pt\;border-right:solid black 1.0pt\;padding:.7pt 1.45pt .7pt .05in\;height:53px\;"><span style="font-size:14px\;"><span style="font-family:arial\;">Setting the Stage &ndash\; Tyrel Stevenson\, Legislative Director\, CDA Tribe and Chair Elect\, Coeur d&rsquo\;Alene Regional Chamber </span></span></td>\n		</tr>\n		<tr style="height:41px\;">\n			<td style="width:65px\;border:solid black 1.0pt\;border-top:none\;padding:.7pt 1.45pt .7pt .05in\;height:41px\;"><span style="font-size:14px\;"><span style="font-family:arial\;">3:50PM&nbsp\;</span></span></td>\n			<td style="width:526px\;border-top:none\;border-left:none\;border-bottom:solid black 1.0pt\;border-right:solid black 1.0pt\;padding:.7pt 1.45pt .7pt .05in\;height:41px\;"><span style="font-size:14px\;"><span style="font-family:arial\;">Panelist General Remarks on Challenge and Opportunity Themes&nbsp\;</span></span></td>\n		</tr>\n		<tr style="height:87px\;">\n			<td style="width:65px\;border:solid black 1.0pt\;border-top:none\;padding:.7pt 1.45pt .7pt .05in\;height:87px\;"><span style="font-size:14px\;"><span style="font-family:arial\;">4:20PM&nbsp\;</span></span></td>\n			<td style="width:526px\;border-top:none\;border-left:none\;border-bottom:solid black 1.0pt\;border-right:solid black 1.0pt\;padding:.7pt 1.45pt .7pt .05in\;height:87px\;"><span style="font-size:14px\;"><span style="font-family:arial\;">Panel Discussion moderated by Tyrel Stevenson&nbsp\;<br />\n			<strong>North Idaho College</strong>:&nbsp\; Dr. Nick Swayne\, President and Erlene Pickett\, Associate Dean of Nursing and Health Professions&nbsp\;<br />\n			<strong>Kootenai Health</strong>:&nbsp\; Kelly Espinoza\, PhD\, RN\, Chief Nursing Officer\, and&nbsp\;Collin Furukawa\, EVP Strategy and Business Development<br />\n			&nbsp\;</span></span></td>\n		</tr>\n		<tr style="height:18px\;">\n			<td style="width:65px\;border:solid black 1.0pt\;border-top:none\;padding:.7pt 1.45pt .7pt .05in\;height:18px\;"><span style="font-size:14px\;"><span style="font-family:arial\;">5:10PM&nbsp\;</span></span></td>\n			<td style="width:526px\;border-top:none\;border-left:none\;border-bottom:solid black 1.0pt\;border-right:solid black 1.0pt\;padding:.7pt 1.45pt .7pt .05in\;height:18px\;"><span style="font-size:14px\;"><span style="font-family:arial\;">Table discussions &amp\; survey responses&nbsp\;</span></span></td>\n		</tr>\n		<tr style="height:51px\;">\n			<td style="width:65px\;border:solid black 1.0pt\;border-top:none\;padding:.7pt 1.45pt .7pt .05in\;height:51px\;"><span style="font-size:14px\;"><span style="font-family:arial\;">5:25PM&nbsp\;</span></span></td>\n			<td style="width:526px\;border-top:none\;border-left:none\;border-bottom:solid black 1.0pt\;border-right:solid black 1.0pt\;padding:.7pt 1.45pt .7pt .05in\;height:51px\;"><span style="font-size:14px\;"><span style="font-family:arial\;">Next steps and closing&nbsp\;</span></span></td>\n		</tr>\n	</tbody>\n</table>\n
LOCATION:North Idaho College | Lake Coeur d'Alene Room
UID:e.843.30957
SEQUENCE:3
DTSTAMP:20260422T200821Z
URL:http://directory.cdachamber.com/events/details/community-conversations-the-health-of-our-community-30957
END:VEVENT

END:VCALENDAR
