BEGIN:VCALENDAR
VERSION:2.0
PRODID:-//ChamberMaster//Event Calendar 2.0//EN
METHOD:PUBLISH
X-PUBLISHED-TTL:P3D
REFRESH-INTERVAL:P3D
CALSCALE:GREGORIAN
BEGIN:VEVENT
DTSTART:20240912T220000Z
DTEND:20240913T003000Z
X-MICROSOFT-CDO-ALLDAYEVENT:FALSE
SUMMARY:Community Conversations: The Escalating Threat of Fentanyl in North Idaho (Part 2)
DESCRIPTION:The Escalating Threat of Fentanyl in North Idaho Forum (Part 2)\n\nJoin us for an insightful and critical discussion on the escalating threat of fentanyl in north Idaho. Part 1 of this forum featured an eye-opening presentation with alarming data on the widespread impact of this deadly drug across our state. From rising overdose rates to the devastating toll on families and communities\, the urgency of addressing this crisis is clear and our panelists discussed the comprehensive efforts being undertaken at the national\, state\, and local levels to combat the fentanyl epidemic.\n\nPart 2 of this forum will bring together a panel of esteemed healthcare professionals to delve into the pressing health challenges posed by the rise of fentanyl use in our community. These experts will provide a comprehensive overview of the current issues\, trends\, and biological impacts of fentanyl use. The discussion will encompass strategies for addressing behavioral health and substance use treatment\, offering valuable insights into tackling this escalating crisis.\n\nWe encourage community members to participate and engage in this vital conversation. During the panel discussion and presentation\, there will be an opportunity for a public Q&A session\, allowing attendees to ask questions and gain further understanding of the issues at hand.\n\nDon't miss this opportunity to learn\, engage\, and be part of the solution in addressing the fentanyl threat in North Idaho.\n\n\n\nOur Panelists:\n\n\n	Kerry Green\, Adult Recovery Unit Manager and Manager of the Northern Idaho Crisis Center\, Kootenai Health\n	Benjamin Milam\, M.D.\, Kootenai Health\n	Kate Aguirre\, M.D.\, Marimn Health\n	Dave Atkins\, Heritage Health\n\nPurpose of Community Conversations:\n\n\n	Facilitate Civil Dialogue: We aim to create a welcoming space where community members can engage in constructive conversations\, exchange diverse perspectives\, and explore various viewpoints in a respectful manner.\n	Address Important Issues: These forums serve as a vital platform for identifying and addressing pressing issues that affect our community's well-being\, ranging from social\, economic\, environmental\, to cultural concerns.\n	Capture Concerns and Ideas: By actively listening to the voices of our community members\, we endeavor to capture their concerns\, suggestions\, and innovative ideas for potential solutions. This enables us to better understand the needs and aspirations of our diverse community.\n\n Desired Outcomes:\n\n\n	Increased Awareness: We aim to raise awareness about significant issues impacting our community\, ensuring that residents are well-informed and empowered to participate in decision-making processes.\n	Collaborative Solutions: Through collaborative discussions and idea-sharing\, we seek to develop actionable solutions and initiatives that address identified challenges and improve the quality of life for everyone in our community.\n	Strengthened Community Bonds: By coming together to discuss common challenges and opportunities\, we hope to strengthen bonds within our community\, foster empathy\, and build a sense of solidarity among residents.\n\n Your participation in these forums is invaluable\, and we encourage you to actively engage\, share your perspectives\, and contribute to shaping a brighter future for our community.
X-ALT-DESC;FMTTYPE=text/html:<h3><span style="font-size: 18px\;"><span style="color: rgb(0\, 0\, 0)\;"><span style="font-family: arial\;"><strong>The Escalating Threat of Fentanyl in North Idaho Forum (Part 2)</strong></span></span></span></h3>\n\n<p><span style="font-size:18px\;"><span style="color: rgb(0\, 0\, 0)\;"><span style="font-family: arial\;">Join us for an insightful and critical discussion on the escalating threat of fentanyl in north Idaho.&nbsp\;Part 1 of this forum featured an eye-opening presentation with alarming data on the widespread impact of this deadly drug across our state. From rising overdose rates to the devastating toll on families and communities\, the urgency of addressing this crisis is clear and&nbsp\;our panelists discussed the comprehensive efforts being undertaken at the national\, state\, and local levels to combat the fentanyl epidemic.</span></span></span></p>\n\n<p><span style="font-size:18px\;"><span style="color: rgb(0\, 0\, 0)\;"><span style="font-family: arial\;">Part 2 of this forum will bring together a panel of esteemed healthcare professionals to delve into the pressing health challenges posed by the rise of fentanyl use in our community.&nbsp\;</span></span></span><span style="font-size:18px\;"><span style="color: rgb(0\, 0\, 0)\;"><span style="font-family: arial\;">These experts will provide a comprehensive overview of the current issues\, trends\, and biological impacts of fentanyl use. The discussion will encompass strategies for addressing behavioral health and substance use treatment\, offering valuable insights into tackling this escalating crisis.</span></span></span></p>\n\n<p><span style="font-size:18px\;"><span style="color: rgb(0\, 0\, 0)\;"><span style="font-family: arial\;">We encourage community members to participate and engage in this vital conversation. During the panel discussion and presentation\, there will be an opportunity for a public Q&amp\;A session\, allowing attendees to ask questions and gain further understanding of the issues at hand.</span></span></span></p>\n\n<p><span style="font-size:18px\;"><span style="color: rgb(0\, 0\, 0)\;"><span style="font-family: arial\;">Don&#39\;t miss this opportunity to learn\, engage\, and be part of the solution in addressing the fentanyl threat in North Idaho.</span></span></span><br />\n<br />\n<strong><span style="font-size: 18px\;"><span style="color: rgb(0\, 0\, 0)\;"><span style="font-family: arial\;">Our Panelists:</span></span></span></strong></p>\n\n<ul>\n	<li><span style="font-size: 18px\;"><span style="color: rgb(0\, 0\, 0)\;"><span style="font-family: arial\;"><strong>Kerry Green</strong>\, Adult Recovery Unit Manager and Manager of the Northern Idaho Crisis Center\, Kootenai Health</span></span></span></li>\n	<li><span style="font-size: 18px\;"><span style="color: rgb(0\, 0\, 0)\;"><span style="font-family: arial\;"><strong>Benjamin Milam\, M.D.</strong>\, Kootenai Health</span></span></span></li>\n	<li><span style="font-size: 18px\;"><span style="color: rgb(0\, 0\, 0)\;"><span style="font-family: arial\;"><strong>Kate Aguirre\, M.D.</strong>\, Marimn Health</span></span></span></li>\n	<li><span style="font-size: 18px\;"><span style="color: rgb(0\, 0\, 0)\;"><span style="font-family: arial\;"><strong>Dave Atkins</strong>\, Heritage Health</span></span></span></li>\n</ul>\n<span style="font-size:18px\;"><span style="color: rgb(0\, 0\, 0)\;"><span style="font-family: arial\;"><strong>Purpose of Community Conversations:</strong></span></span></span>\n\n<ul>\n	<li style="margin-left: 0in\;"><span style="font-size:18px\;"><span style="color: rgb(0\, 0\, 0)\;"><span style="font-family: arial\;"><strong>Facilitate Civil Dialogue:</strong>&nbsp\;We aim to create a welcoming space where community members can engage in constructive conversations\, exchange diverse perspectives\, and explore various viewpoints in a respectful manner.</span></span></span></li>\n	<li style="margin-left: 0in\;"><span style="font-size:18px\;"><span style="color: rgb(0\, 0\, 0)\;"><span style="font-family: arial\;"><strong>Address Important Issues:</strong>&nbsp\;These forums serve as a vital platform for identifying and addressing pressing issues that affect our community&#39\;s well-being\, ranging from social\, economic\, environmental\, to cultural concerns.</span></span></span></li>\n	<li style="margin-left: 0in\;"><span style="font-size:18px\;"><span style="color: rgb(0\, 0\, 0)\;"><span style="font-family: arial\;"><strong>Capture Concerns and Ideas:</strong>&nbsp\;By actively listening to the voices of our community members\, we endeavor to capture their concerns\, suggestions\, and innovative ideas for potential solutions. This enables us to better understand the needs and aspirations of our diverse community.</span></span></span></li>\n</ul>\n<span style="font-size:18px\;"> <span style="color: rgb(0\, 0\, 0)\;"><span style="font-family: arial\;"><strong>Desired Outcomes:</strong></span></span></span>\n\n<ul>\n	<li style="margin-left: 0in\;"><span style="font-size:18px\;"><span style="color: rgb(0\, 0\, 0)\;"><span style="font-family: arial\;"><strong>Increased Awareness:</strong>&nbsp\;We aim to raise awareness about significant issues impacting our community\, ensuring that residents are well-informed and empowered to participate in decision-making processes.</span></span></span></li>\n	<li style="margin-left: 0in\;"><span style="font-size:18px\;"><span style="color: rgb(0\, 0\, 0)\;"><span style="font-family: arial\;"><strong>Collaborative Solutions:</strong>&nbsp\;Through collaborative discussions and idea-sharing\, we seek to develop actionable solutions and initiatives that address identified challenges and improve the quality of life for everyone in our community.</span></span></span></li>\n	<li style="margin-left: 0in\;"><span style="font-size:18px\;"><span style="color: rgb(0\, 0\, 0)\;"><span style="font-family: arial\;"><strong>Strengthened Community Bonds:</strong>&nbsp\;By coming together to discuss common challenges and opportunities\, we hope to strengthen bonds within our community\, foster empathy\, and build a sense of solidarity among residents.</span></span></span></li>\n</ul>\n<span style="font-size:18px\;"> <span style="color: rgb(0\, 0\, 0)\;"><span style="font-family: arial\;">Your participation in these forums is invaluable\, and we encourage you to actively engage\, share your perspectives\, and contribute to shaping a brighter future for our community.</span></span></span>
LOCATION:North Idaho College | The Edminster Student Union Building - Lake Coeur d'Alene Room
UID:e.843.31595
SEQUENCE:3
DTSTAMP:20260422T101903Z
URL:http://directory.cdachamber.com/events/details/community-conversations-the-escalating-threat-of-fentanyl-in-north-idaho-part-2-31595
END:VEVENT

END:VCALENDAR
