BEGIN:VCALENDAR
VERSION:2.0
PRODID:-//ChamberMaster//Event Calendar 2.0//EN
METHOD:PUBLISH
X-PUBLISHED-TTL:P3D
REFRESH-INTERVAL:P3D
CALSCALE:GREGORIAN
BEGIN:VEVENT
DTSTART:20240516T223000Z
DTEND:20240517T003000Z
X-MICROSOFT-CDO-ALLDAYEVENT:FALSE
SUMMARY:Community Conversations: The Escalating Threat of Fentanyl in North Idaho (Part 1)
DESCRIPTION:Forum 2 Topic: The Escalating Threat of Fentanyl in North Idaho\n\nJoin us for a vital community conversation on the escalating threat of Fentanyl in North Idaho. This event will shed light on the alarming data showcasing the widespread impact of this deadly drug across our state. From rising overdose rates to the devastating toll on families and communities\, the urgency of addressing the crisis cannot be overstated. \n\n\n\nOur panelists will discuss the comprehensive efforts being undertaken at the national\, state and local levels to combat the Fentanyl epidemic. From law enforcement initiatives to public health interventions\, learn about the multifaceted approach being employed to tackle this urgent issue head-on. Moreover\, we will explore how the business community\, education sector\, and citizens can play a crucial role in supporting these efforts to safeguard our community. From promoting drug education and prevention programs to implementing workplace policies that address substance abuse\, businesses and community members have a unique opportunity to contribute to the collective effort in keeping our community safe. \n\n\n\nPurpose of Community Conversations:\n\n	Facilitate Civil Dialogue: We aim to create a welcoming space where community members can engage in constructive conversations\, exchange diverse perspectives\, and explore various viewpoints in a respectful manner.\n	Address Important Issues: These forums serve as a vital platform for identifying and addressing pressing issues that affect our community's well-being\, ranging from social\, economic\, environmental\, to cultural concerns.\n	Capture Concerns and Ideas: By actively listening to the voices of our community members\, we endeavor to capture their concerns\, suggestions\, and innovative ideas for potential solutions. This enables us to better understand the needs and aspirations of our diverse community.\n\nDesired Outcomes:\n\n\n	Increased Awareness: We aim to raise awareness about significant issues impacting our community\, ensuring that residents are well-informed and empowered to participate in decision-making processes.\n	Collaborative Solutions: Through collaborative discussions and idea-sharing\, we seek to develop actionable solutions and initiatives that address identified challenges and improve the quality of life for everyone in our community.\n	Strengthened Community Bonds: By coming together to discuss common challenges and opportunities\, we hope to strengthen bonds within our community\, foster empathy\, and build a sense of solidarity among residents.\n\nYour participation in these forums is invaluable\, and we encourage you to actively engage\, share your perspectives\, and contribute to shaping a brighter future for our community.\n\n\n\nAgenda and Speakers\n\nFeaturing Josh Hurwit\, U.S. Attorney\, District of Idaho\n\nJohn Kempf\, Retired Captain\, Idaho State Police\n\nSam Abrahamson\, Chief of Police\, Coeur d'Alene Tribe\n\nJeremy Hyle\, Kootenai County Sheriff's Office\n\nStanley Mortenson\, Kootenai County Prosecuting Attorney\n\n\n\n\n\nStay tuned for more information on our all-star line-up of panelists of law enforcement and healthcare officials at the front lines.
X-ALT-DESC;FMTTYPE=text/html:<span class="TextRun SCXW138582874 BCX8" data-contrast="none" lang="EN" style="margin: 0px\; padding: 0px\; user-select: text\; -webkit-user-drag: none\; -webkit-tap-highlight-color: transparent\; font-style: normal\; white-space-collapse: preserve\; font-size: 10pt\; line-height: 17.25px\; font-family: Arial\, Arial_EmbeddedFont\, Arial_MSFontService\, sans-serif\; font-variant-ligatures: none !important\;" xml:lang="EN"><span class="NormalTextRun SCXW138582874 BCX8" style="margin: 0px\; padding: 0px\; user-select: text\; -webkit-user-drag: none\; -webkit-tap-highlight-color: transparent\;"><span style="font-size:14px\;"><span style="font-family:arial\;"><strong>Forum 2 Topic: The Escalating Threat of Fentanyl in North Idaho</strong></span></span></span></span><br />\n<span style="font-size:14px\;"><span style="font-family:arial\;">Join us for a vital community conversation on the escalating threat of Fentanyl in North Idaho. This event will shed light on the alarming data showcasing the widespread impact of this deadly drug across our state. From rising overdose rates to the devastating toll on families and communities\, the urgency of addressing the crisis cannot be overstated.&nbsp\;<br />\n<br />\nOur panelists will discuss the comprehensive efforts being undertaken at the national\, state and local levels to combat the Fentanyl epidemic. From law enforcement initiatives to public health interventions\, learn about the multifaceted approach being employed to tackle this urgent issue head-on. Moreover\, we will explore how the business community\, education sector\, and citizens can play a crucial role in supporting these efforts to safeguard our community. From promoting drug education and prevention programs to implementing workplace policies that address substance abuse\, businesses and community members have a unique opportunity to contribute to the collective effort in keeping our community safe.&nbsp\;<br />\n<br />\n<strong>Purpose of Community Conversations:</strong></span></span>\n<ul>\n	<li style="margin-left:0in\;"><span style="font-size:14px\;"><span style="font-family:arial\;"><strong>Facilitate Civil Dialogue:</strong> We aim to create a welcoming space where community members can engage in constructive conversations\, exchange diverse perspectives\, and explore various viewpoints in a respectful manner.</span></span></li>\n	<li style="margin-left:0in\;"><span style="font-size:14px\;"><span style="font-family:arial\;"><strong>Address Important Issues:</strong> These forums serve as a vital platform for identifying and addressing pressing issues that affect our community&#39\;s well-being\, ranging from social\, economic\, environmental\, to cultural concerns.</span></span></li>\n	<li style="margin-left:0in\;"><span style="font-size:14px\;"><span style="font-family:arial\;"><strong>Capture Concerns and Ideas:</strong> By actively listening to the voices of our community members\, we endeavor to capture their concerns\, suggestions\, and innovative ideas for potential solutions. This enables us to better understand the needs and aspirations of our diverse community.</span></span></li>\n</ul>\n<span style="font-size:14px\;"><span style="font-family:arial\;"><strong>Desired Outcomes:</strong></span></span>\n\n<ul>\n	<li style="margin-left:0in\;"><span style="font-size:14px\;"><span style="font-family:arial\;"><strong>Increased Awareness:</strong> We aim to raise awareness about significant issues impacting our community\, ensuring that residents are well-informed and empowered to participate in decision-making processes.</span></span></li>\n	<li style="margin-left:0in\;"><span style="font-size:14px\;"><span style="font-family:arial\;"><strong>Collaborative Solutions:</strong> Through collaborative discussions and idea-sharing\, we seek to develop actionable solutions and initiatives that address identified challenges and improve the quality of life for everyone in our community.</span></span></li>\n	<li style="margin-left:0in\;"><span style="font-size:14px\;"><span style="font-family:arial\;"><strong>Strengthened Community Bonds:</strong> By coming together to discuss common challenges and opportunities\, we hope to strengthen bonds within our community\, foster empathy\, and build a sense of solidarity among residents.</span></span></li>\n</ul>\n<span style="font-size:14px\;"><span style="font-family:arial\;">Your participation in these forums is invaluable\, and we encourage you to actively engage\, share your perspectives\, and contribute to shaping a brighter future for our community.<br />\n<br />\n<strong>Agenda&nbsp\;and Speakers</strong></span></span><br />\nFeaturing Josh Hurwit\, U.S. Attorney\, District of Idaho<br />\nJohn Kempf\, Retired Captain\, Idaho State Police<br />\nSam Abrahamson\, Chief of Police\, Coeur d&#39\;Alene Tribe<br />\nJeremy Hyle\, Kootenai County Sheriff&#39\;s Office<br />\nStanley Mortenson\, Kootenai County Prosecuting Attorney<br />\n<br />\n<br />\nStay tuned for more information on our all-star line-up of panelists of law enforcement and healthcare officials at the front lines.
LOCATION:North Idaho College | The Edminster Student Union Building - Lake Coeur d'Alene Room
UID:e.843.31029
SEQUENCE:3
DTSTAMP:20260422T165526Z
URL:http://directory.cdachamber.com/events/details/community-conversations-the-escalating-threat-of-fentanyl-in-north-idaho-part-1-31029
END:VEVENT

END:VCALENDAR
