BEGIN:VCALENDAR
VERSION:2.0
PRODID:-//ChamberMaster//Event Calendar 2.0//EN
METHOD:PUBLISH
X-PUBLISHED-TTL:P3D
REFRESH-INTERVAL:P3D
CALSCALE:GREGORIAN
BEGIN:VEVENT
DTSTART:20250911T230000Z
DTEND:20250912T003000Z
X-MICROSOFT-CDO-ALLDAYEVENT:FALSE
SUMMARY:Community Conversations - September 2025
DESCRIPTION:Across the country\, young people are facing an unprecedented mental health crisis. From rising rates of anxiety\, depression\, and self-harm to increasing school absences and burnout\, students are struggling and our systems are struggling to respond.\n\n\n"Breaking the Silence: Addressing Youth Mental Health" is a community conversation designed to explore this urgent issue through a dialogue between healthcare professionals\, school officials\, and students themselves. Together\, they will unpack the data\, share lived experiences\, examine global best practices\, and offer actionable ideas for how families\, schools\, and communities can respond.\n\n\n\nThis conversation is especially important to the business community\, as today's youth represent tomorrow's workforce\, and addressing mental health challenges now is critical to building a resilient\, productive\, and thriving local economy. The well-being of our youth not only shapes the talent pipeline of the future\, but also influences family stability\, school performance\, and long-term economic vitality making youth mental health a priority for every business leader.\n\n\n\nWe'll explore:\n\n	What the numbers tell us about the current mental health crisis\n	Why today's environment is especially challenging for youth\n	What's working in communities that have made mental health a priority\n	What's at risk if we fail to act and what we stand to gain if we do\n\nThis event isn't just about raising awareness it's about mobilizing hope and action to support the well-being of our next generation.
X-ALT-DESC;FMTTYPE=text/html:<p>Across the country\, young people are facing an unprecedented mental health crisis. From rising rates of anxiety\, depression\, and self-harm to increasing school absences and burnout\, students are struggling&mdash\;and our systems are struggling to respond.</p>\n<br />\n&ldquo\;Breaking the Silence: Addressing Youth Mental Health&rdquo\; is a community conversation designed to explore this urgent issue through a dialogue between healthcare professionals\, school officials\, and students themselves. Together\, they will unpack the data\, share lived experiences\, examine global best practices\, and offer actionable ideas for how families\, schools\, and communities can respond.<br />\n<br />\nThis conversation is especially important to the business community\, as today&rsquo\;s youth represent tomorrow&rsquo\;s workforce\, and addressing mental health challenges now is critical to building a resilient\, productive\, and thriving local economy.&nbsp\;The well-being of our youth not only shapes the talent pipeline of the future\, but also influences family stability\, school performance\, and long-term economic vitality&mdash\;making youth mental health a priority for every business leader.<br />\n<br />\nWe&rsquo\;ll explore:\n<ul>\n	<li style="margin-bottom:6.0pt\;line-height:normal\;">What the numbers tell us about the current mental health crisis</li>\n	<li style="margin-bottom:6.0pt\;line-height:normal\;">Why today&rsquo\;s environment is especially challenging for youth</li>\n	<li style="margin-bottom:6.0pt\;line-height:normal\;">What&rsquo\;s working in communities that have made mental health a priority</li>\n	<li style="margin-bottom:6.0pt\;line-height:normal\;">What&rsquo\;s at risk if we fail to act&mdash\;and what we stand to gain if we do</li>\n</ul>\nThis event isn&rsquo\;t just about raising awareness&mdash\;it&rsquo\;s about mobilizing hope and action to support the well-being of our next generation.
LOCATION:Lake Coeur d'Alene Room Edminster Student Union Building North Idaho College
UID:e.843.32173
SEQUENCE:3
DTSTAMP:20260421T122342Z
URL:http://directory.cdachamber.com/events/details/community-conversations-september-2025-32173
END:VEVENT

END:VCALENDAR
