BEGIN:VCALENDAR
VERSION:2.0
PRODID:-//ChamberMaster//Event Calendar 2.0//EN
METHOD:PUBLISH
X-PUBLISHED-TTL:P3D
REFRESH-INTERVAL:P3D
CALSCALE:GREGORIAN
BEGIN:VEVENT
DTSTART:20250407T230000Z
DTEND:20250408T020000Z
X-MICROSOFT-CDO-ALLDAYEVENT:FALSE
SUMMARY:CDA Regional Career and Business Expo 2025
DESCRIPTION:CDA REGIONAL CAREER AND BUSINESS EXPO 2025\n\nLooking for your next career opportunity or seeking to connect with local businesses? Join us at the CDA Regional Career and Business Expo 2025\, where 80 leading businesses from across the region will showcase their industries\, opportunities\, and innovations!\n\nExplore a variety of booths hosted by top employers\, small businesses\, and organizations representing a wide range of fields\, including technology\, healthcare\, retail\, manufacturing\, education\, and more. This is your chance to network with industry professionals\, learn about job openings\, and discover the latest products and services shaping our community.\n\nEvent Highlights:\n\n\n	80 Business Booths: Meet with local employers and business leaders.\n	Networking Opportunities: Make valuable connections with industry experts.\n	On-the-Spot Interviews: Some employers may be conducting interviews during the event.
X-ALT-DESC;FMTTYPE=text/html:<p data-end="338" data-start="69"><span style="color:#000000\;"><span style="font-size:22px\;"><strong>CDA REGIONAL CAREER AND BUSINESS EXPO 2025</strong></span><br />\n<span style="font-size:18px\;">Looking for your next career opportunity or seeking to connect with local businesses? Join us at the <strong data-end="216" data-start="170">CDA Regional Career and Business Expo 2025</strong>\, where <strong data-end="249" data-start="224">80 leading businesses</strong> from across the region will showcase their industries\, opportunities\, and innovations!</span></span></p>\n\n<p data-end="700" data-start="340"><span style="color:#000000\;"><span style="font-size:18px\;">Explore a variety of booths hosted by top employers\, small businesses\, and organizations representing a wide range of fields\, including technology\, healthcare\, retail\, manufacturing\, education\, and more. This is your chance to network with industry professionals\, learn about job openings\, and discover the latest products and services shaping our community.</span></span></p>\n\n<p data-end="725" data-start="702"><span style="color:#000000\;"><span style="font-size:18px\;"><strong data-end="723" data-start="702">Event Highlights:</strong></span></span></p>\n\n<ul data-end="1084" data-start="726">\n	<li data-end="801" data-start="726"><span style="color:#000000\;"><span style="font-size:18px\;"><strong data-end="750" data-start="728">80 Business Booths</strong>: Meet with local employers and business leaders.</span></span></li>\n	<li data-end="884" data-start="802"><span style="color:#000000\;"><span style="font-size:18px\;"><strong data-end="832" data-start="804">Networking Opportunities</strong>: Make valuable connections with industry experts.</span></span></li>\n	<li data-end="978" data-start="885"><span style="color:#000000\;"><span style="font-size:18px\;"><strong data-end="913" data-start="887">On-the-Spot Interviews</strong>: Some employers may be conducting interviews during the event.</span></span></li>\n</ul>\n
LOCATION:The Kootenai County Fairgrounds\; Jacklin Building 4056 N. Government Way\, Coeur d'Alene\, ID 83815
UID:e.843.32147
SEQUENCE:3
DTSTAMP:20260421T212220Z
URL:http://directory.cdachamber.com/events/details/cda-regional-career-and-business-expo-2025-32147
END:VEVENT

END:VCALENDAR
