BEGIN:VCALENDAR
VERSION:2.0
PRODID:-//ChamberMaster//Event Calendar 2.0//EN
METHOD:PUBLISH
X-PUBLISHED-TTL:P3D
REFRESH-INTERVAL:P3D
CALSCALE:GREGORIAN
BEGIN:VEVENT
DTSTART:20230315T230000Z
DTEND:20230316T020000Z
X-MICROSOFT-CDO-ALLDAYEVENT:FALSE
SUMMARY:CDA Regional Business and Job Fair 2023
DESCRIPTION:Join over 80 businesses at the largest business and job fair in the Coeur d'Alene region. Here\, you will make powerful connections\, and promote your business\, all in one high-impact evening.\n\n\n\nWe listened! This year\, based on member feedback\, we are thrilled to add a job fair element due to the overwhelming need to find qualified candidates for open positions. So\, in addition to showcasing your amazing products and services\, be sure to bring your HR team and be ready to recruit new employees.\n\n\n\nPremium booths\, standard booths\, and sponsorships are available.\n\n\n\nQuestions?  Email connect@cdachamber.com\n\nSponsorships: Contact Katie Rose Hargreaves\, 703.593.2321 or katierose@cdachamber.com
X-ALT-DESC;FMTTYPE=text/html:<span style="font-size:16px\;"><span style="color: black\;">Join over 80 businesses at the largest business and job fair in the Coeur d&#39\;Alene region. Here\, you will make powerful connections\, and&nbsp\;</span><span style="color: rgb(0\, 0\, 0)\;">promote your business\,&nbsp\;</span><span style="color: black\;">all in one high-impact evening.</span><br />\n<br />\n<span style="color: black\;">We listened! This year\, based on member feedback\, we are thrilled to </span><span style="color: rgb(0\, 0\, 0)\;">add a job fair element due to the overwhelming need to find qualified candidates for open positions. So\, </span></span><span style="color: rgb(0\, 0\, 0)\; font-size: 16px\;">in addition to showcasing your amazing products and services\,&nbsp\;</span><span style="font-size:16px\;"><span style="color: rgb(0\, 0\, 0)\;">b</span><span style="color: black\;">e sure to bring your HR team and be ready to recruit new employees.</span><br />\n<br />\n<span style="color: black\;">Premium booths\, standard booths\, and sponsorships are available.</span><br />\n<br />\n<strong style="font-family: verdana\; color: rgb(0\, 0\, 0)\; font-size: 15px\;">Questions?</strong><span style="color: rgb(0\, 0\, 0)\;">&nbsp\; Email </span><a href="mailto:connect@cdachamber.com?subject=CDA%20Regional%20Business%20and%20Job%20Fair" style="font-family: verdana\; font-size: 15px\;">connect</a><a href="mailto:connect@cdachamber.com?subject=CDA%20Regional%20Business%20and%20Job%20Fair" style="font-family: verdana\; font-size: 15px\;"><span style="box-sizing: border-box\; color: rgb(44\, 99\, 210)\;">@cdachamber.com</span></a><br />\n<strong style="font-family: verdana\; color: rgb(0\, 0\, 0)\; font-size: 16px\;">Sponsorships:</strong><span style="color: rgb(0\, 0\, 0)\;">&nbsp\;Contact Katie Rose Hargreaves\, 703.593.2321&nbsp\;or&nbsp\;</span><a href="mailto:katierose@cdachamber.com ?subject=Sponsorship%20for%202023%20Economic%20Forecast" style="font-family: verdana\; font-size: 16px\;">katierose@cdachamber.com&nbsp\;</a></span>\n<h3>&nbsp\;</h3>\n
LOCATION:The Coeur d'Alene Resort 115 S 2nd Street\, Coeur d'Alene\, ID
UID:e.843.27920
SEQUENCE:3
DTSTAMP:20260423T183001Z
URL:http://directory.cdachamber.com/events/details/cda-regional-business-and-job-fair-2023-27920
END:VEVENT

END:VCALENDAR
