BEGIN:VCALENDAR
VERSION:2.0
PRODID:-//ChamberMaster//Event Calendar 2.0//EN
METHOD:PUBLISH
X-PUBLISHED-TTL:P3D
REFRESH-INTERVAL:P3D
CALSCALE:GREGORIAN
BEGIN:VEVENT
DTSTART:20230526T000000Z
DTEND:20230526T013000Z
X-MICROSOFT-CDO-ALLDAYEVENT:FALSE
SUMMARY:Business After Hours - May 2023
DESCRIPTION:Happy 30th Anniversary Coeur d'Alene Casino! We're excited to share we're celebrating big this year with the May 2023 Business After Hours event experience\, hosted Coeur d'Alene Casino Resort Hotel!\n\n \n\nThis free networking event provides an opportunity for members to showcase their business and make connections. Appetizers\, beverages\, and prizes are provided by the sponsor business.\n\n \n\nHeavy appetizers\n\n \n\n1 drink ticket for beer or wine\, no host bar following\n\n \n\n$10 play cash voucher \n\n \n\nRaffle: Overnight stay and spa for 2 people!\n\n	Drawing @6:00 p.m.\n	Must be present to win!
X-ALT-DESC;FMTTYPE=text/html:<span style="font-family:segoe ui\,sans-serif\;"><span style="font-size:12.0pt\;">Happy 30th Anniversary Coeur d&rsquo\;Alene Casino! We&rsquo\;re excited to share we&#39\;re celebrating big this year with the May 2023 Business After Hours event experience\, hosted Coeur d&rsquo\;Alene Casino Resort Hotel!</span></span><br />\n&nbsp\;<br />\n<span style="background:white\;"><span style="color:black\;"><span style="font-family:segoe ui\,sans-serif\;"><span style="font-size:12.0pt\;">This free networking event provides an opportunity for members to showcase their business and make connections. Appetizers\, beverages\, and prizes are provided by the sponsor business.</span></span></span></span><br />\n&nbsp\;<br />\n<span style="font-family:segoe ui\,sans-serif\;"><span style="font-size:12.0pt\;">Heavy appetizers</span></span><br />\n&nbsp\;<br />\n<span style="font-family:segoe ui\,sans-serif\;"><span style="font-size:12.0pt\;">1 drink ticket for beer or wine\, no host bar following</span></span><br />\n&nbsp\;<br />\n<span style="font-family:segoe ui\,sans-serif\;"><span style="font-size:12.0pt\;">$10 play cash voucher </span></span><br />\n&nbsp\;<br />\n<span style="font-family:segoe ui\,sans-serif\;"><span style="font-size:12.0pt\;">Raffle: Overnight stay and spa for 2 people!</span></span>\n<ul style="list-style-type:circle\;">\n	<li><span style="font-family:segoe ui\,sans-serif\;"><span style="font-size:12.0pt\;">Drawing @6:00 p.m.</span></span></li>\n	<li><span style="font-family:segoe ui\,sans-serif\;"><span style="font-size:12.0pt\;">Must be present to win!</span></span></li>\n</ul>\n
LOCATION:Coeur d'Alene Casino Resort Hotel: 37914 S. Nukwalqw St. Worley\, ID 83876 Mildred Bailey room\, next to the Night Hawk Lounge Park at Main Entrance For directions\, call Coeur d'Alene Casino Resort Hotel directly (800.523.2464)
UID:e.843.27896
SEQUENCE:3
DTSTAMP:20260423T143655Z
URL:http://directory.cdachamber.com/events/details/business-after-hours-may-2023-27896
END:VEVENT

END:VCALENDAR
