BEGIN:VCALENDAR
VERSION:2.0
PRODID:-//ChamberMaster//Event Calendar 2.0//EN
METHOD:PUBLISH
X-PUBLISHED-TTL:P3D
REFRESH-INTERVAL:P3D
CALSCALE:GREGORIAN
BEGIN:VEVENT
DTSTART:20240628T000000Z
DTEND:20240628T013000Z
X-MICROSOFT-CDO-ALLDAYEVENT:FALSE
SUMMARY:Business After Hours - June 2024
DESCRIPTION:June 2024 Business After Hours. This free networking event provides an opportunity for members to showcase their business and make connections. Appetizers\, beverages\, and prizes are provided by the sponsor business.
X-ALT-DESC;FMTTYPE=text/html:June 2024 Business After Hours. This free networking event provides an opportunity for members to showcase their business and make connections. Appetizers\, beverages\, and prizes are provided by the sponsor business.
LOCATION:Fatbeam 2065 W. Riverstone Dr.\, Ste. 202 Coeur d'Alene\, ID 83814
UID:e.843.31022
SEQUENCE:3
DTSTAMP:20260422T151312Z
URL:http://directory.cdachamber.com/events/details/business-after-hours-june-2024-31022
END:VEVENT

END:VCALENDAR
