BEGIN:VCALENDAR
VERSION:2.0
PRODID:-//ChamberMaster//Event Calendar 2.0//EN
METHOD:PUBLISH
X-PUBLISHED-TTL:P3D
REFRESH-INTERVAL:P3D
CALSCALE:GREGORIAN
BEGIN:VEVENT
DTSTART:20250619T230000Z
DTEND:20250620T020000Z
X-MICROSOFT-CDO-ALLDAYEVENT:FALSE
SUMMARY:Business After Hours\, hosted by the Coeur d'Alene Casino Resort Hotel
DESCRIPTION:Join us for a summer evening of networking\, connection\, and community at the Coeur d'Alene Casino Resort Hotel in Worley\, hosted by the Coeur d'Alene Tribe.\n\nGuests will be treated to complimentary drinks\, casino play cards to try a few games\, and an elevated appetizer spread featuring:\n\n  Chicken kabobs\n\n  Blackened shrimp\n\n  Seasonal fruit\n\n  Tiramisu trifle shooters\n\n  Mini filo cups\n\nWhether you're making new connections or catching up with familiar faces\, Business After Hours is a casual\, come-as-you-are space to unwind and engage with fellow Chamber members.
X-ALT-DESC;FMTTYPE=text/html:<p data-end="358" data-start="202"><span style="font-family:verdana\;">Join us for a summer evening of networking\, connection\, and community at the <strong>Coeur d&rsquo\;Alene Casino Resort Hotel</strong> in Worley\, hosted by the Coeur d&rsquo\;Alene Tribe.</span></p>\n\n<p data-end="654" data-start="360"><span style="font-family:verdana\;">Guests will be treated to complimentary drinks\, casino play cards to try a few games\, and an elevated appetizer spread featuring:<br data-end="492" data-start="489" />\n&bull\; Chicken kabobs<br data-end="511" data-start="508" />\n&bull\; Blackened shrimp<br data-end="532" data-start="529" />\n&bull\; Seasonal fruit<br data-end="551" data-start="548" />\n&bull\; Tiramisu trifle shooters<br data-end="580" data-start="577" />\n&bull\; Mini filo cups</span></p>\n\n<p data-end="835" data-start="656"><span style="font-family:verdana\;">Whether you&rsquo\;re making new connections or catching up with familiar faces\, Business After Hours is a casual\, come-as-you-are space to unwind and engage with fellow Chamber members.</span></p>\n
LOCATION:Coeur d'Alene Casino Resort Hotel - Ponderosa Room 37914 S Nukwalqw St\, Worley\, Idaho 83876
UID:e.843.32956
SEQUENCE:3
DTSTAMP:20260421T175213Z
URL:http://directory.cdachamber.com/events/details/business-after-hours-hosted-by-the-coeur-d-alene-casino-resort-hotel-32956
END:VEVENT

END:VCALENDAR
