BEGIN:VCALENDAR
VERSION:2.0
PRODID:-//ChamberMaster//Event Calendar 2.0//EN
METHOD:PUBLISH
X-PUBLISHED-TTL:P3D
REFRESH-INTERVAL:P3D
CALSCALE:GREGORIAN
BEGIN:VEVENT
DTSTART:20250910T000000Z
DTEND:20250910T013000Z
X-MICROSOFT-CDO-ALLDAYEVENT:FALSE
SUMMARY:Business After Hours\, hosted by Fatbeam Fiber
DESCRIPTION:Whether you're making new connections or catching up with familiar faces\, Business After Hours is a casual\, come-as-you-are space to unwind and engage with fellow Chamber members.\n\n\n\nPresented by Fatbeam Fiber
X-ALT-DESC;FMTTYPE=text/html:<p data-end="358" data-start="202"><span style="font-size:14px\;"><span style="font-family:verdana\;">Whether you&rsquo\;re making new connections or catching up with familiar faces\, Business After Hours is a casual\, come-as-you-are space to unwind and engage with fellow Chamber members.<br />\n<br />\n<strong>Presented by Fatbeam Fiber</strong></span></span></p>\n
LOCATION:Fatbeam Fiber 2065 W Riverstone Drive\, STE 202 Coeur d'Alene\, Idaho 83814
UID:e.843.33017
SEQUENCE:3
DTSTAMP:20260421T122640Z
URL:http://directory.cdachamber.com/events/details/business-after-hours-hosted-by-fatbeam-fiber-33017
END:VEVENT

END:VCALENDAR
