BEGIN:VCALENDAR
VERSION:2.0
PRODID:-//ChamberMaster//Event Calendar 2.0//EN
METHOD:PUBLISH
X-PUBLISHED-TTL:P3D
REFRESH-INTERVAL:P3D
CALSCALE:GREGORIAN
BEGIN:VEVENT
DTSTART:20230224T010000Z
DTEND:20230224T023000Z
X-MICROSOFT-CDO-ALLDAYEVENT:FALSE
SUMMARY:Business After Hours - February 2023
DESCRIPTION:Business After Hours events are free quarterly networking events that allow members to show off their businesses and build up their community of supporters. This quarter features Mangia Catering Co\, winner of Wedding Wire's "Couples' Choice Award" and Delicious Living's "Best Bite Award". Join us for the tastiest Business After Hours yet!\n\n\n	Heavy hors d'oeuvres\n	Open bar with beer\, wine\, and cocktails\n	Door prizes\n	Raffle\n	Live DJ\n	Tons of fun!
X-ALT-DESC;FMTTYPE=text/html:<div data-paragraph="true">Business After Hours events are free quarterly networking events that allow members to show off their businesses and build up their community of supporters. This quarter features Mangia Catering Co\, winner of Wedding Wire&#39\;s &ldquo\;Couples&#39\; Choice Award&rdquo\; and Delicious Living&#39\;s &ldquo\;Best Bite Award&rdquo\;. Join us for the tastiest Business After Hours yet!</div>\n\n<ul>\n	<li style="text-align:left\;">Heavy hors d&#39\;oeuvres</li>\n	<li style="text-align:left\;">Open bar with beer\, wine\, and cocktails</li>\n	<li style="text-align:left\;">Door prizes</li>\n	<li style="text-align:left\;">Raffle</li>\n	<li style="text-align:left\;">Live DJ</li>\n	<li style="text-align:left\;">Tons of fun!</li>\n</ul>\n
LOCATION:Sponsor: Mangia Catering Co. Location: 22425 E. Appleway Ave.\, Suite 19 | Liberty Lake\, WA 99019
UID:e.843.27895
SEQUENCE:3
DTSTAMP:20260423T201021Z
URL:http://directory.cdachamber.com/events/details/business-after-hours-february-2023-27895
END:VEVENT

END:VCALENDAR
