BEGIN:VCALENDAR
VERSION:2.0
PRODID:-//ChamberMaster//Event Calendar 2.0//EN
METHOD:PUBLISH
X-PUBLISHED-TTL:P3D
REFRESH-INTERVAL:P3D
CALSCALE:GREGORIAN
BEGIN:VEVENT
DTSTART:20221028T000000Z
DTEND:20221028T013000Z
X-MICROSOFT-CDO-ALLDAYEVENT:FALSE
SUMMARY:Business After Hours
DESCRIPTION:Don't miss this FREE Business After Hours event! \n\n\n	This month's Business After Hours takes place at North Idaho College's main campus as part of the festivities highlighting the expansion of the Meyer Health and Sciences Building open house and the ribbon cutting for the new Dental Clinic. Attending Business After Hours is a great way to grow your business by building authentic relationships with other business leaders in our region. Bring your friends/colleagues and get ready to have some fun!\n	Light snacks and drinks will be provided\n	Awesome prizes will be raffled off at the event\n	You never know .your most influential business partner \n\n	or contact may be there\, waiting to meet you. RSVP today!\n\n\nDoors open at 5 PM
X-ALT-DESC;FMTTYPE=text/html:<div data-paragraph="true"><span style="font-size: 16px\;"><span style="color: rgb(0\, 0\, 0)\;">Don&#39\;t miss this FREE Business After Hours event</span><span style="color: rgb(0\, 0\, 0)\;">!&nbsp\;</span></span></div>\n\n<ul>\n	<li style="text-align: left\;"><span style="color:black\;"><span style="font-size:11.5pt\;">This month&rsquo\;s Business After Hours takes place at <a data-custom="link" href="https://f1v3ff69.r.us-east-1.awstrack.me/L0/https:%2F%2Fwww.nic.edu%2F/2/01000183e5d23722-77312388-6102-496a-9d5b-1c56214a5510-000000/5PKJwr0WJBHn4WrxUin3rQvAsqI=291"><span style="color:#2C63D2\;">North Idaho College</span></a>&#39\;s main campus as part of the festivities highlighting the expansion of the Meyer Health and Sciences Building open house and the ribbon cutting for the new Dental Clinic. Attending Business After Hours is a great way to grow your business by building authentic relationships with other business leaders in our region. Bring your friends/colleagues and get ready to have some fun!</span></span></li>\n	<li style="color:black\;"><span style="font-size:11.5pt\;">Light snacks and drinks will be provided</span></li>\n	<li style="color:black\;"><span style="font-size:11.5pt\;">Awesome prizes will be raffled off at the event</span></li>\n	<li style="text-align: left\;"><span style="color:black\;"><span style="font-size:11.5pt\;">You never know&hellip\;.your most influential business partner&nbsp\;</span></span><br />\n	<span style="color:black\;"><span style="font-size:11.5pt\;">or contact may be there\, waiting to meet you. RSVP today!</span></span></li>\n</ul>\n\n<div data-paragraph="true"><span style="font-family: &quot\;times new roman&quot\;\;"><span style="color: rgb(8\, 85\, 150)\;"><span style="font-size: 20px\; font-weight: 600\;"><i>Doors open at 5 PM</i></span></span></span></div>\n
LOCATION:North Idaho College - Meyer Health & Sciences Building 521 N College Dr\, Coeur d'Alene
UID:e.843.25336
SEQUENCE:3
DTSTAMP:20260424T044308Z
URL:http://directory.cdachamber.com/events/details/business-after-hours-10-26-2022-25336
END:VEVENT

END:VCALENDAR
