BEGIN:VCALENDAR
VERSION:2.0
PRODID:-//ChamberMaster//Event Calendar 2.0//EN
METHOD:PUBLISH
X-PUBLISHED-TTL:P3D
REFRESH-INTERVAL:P3D
CALSCALE:GREGORIAN
BEGIN:VEVENT
DTSTART:20251009T140000Z
DTEND:20251009T160000Z
X-MICROSOFT-CDO-ALLDAYEVENT:FALSE
SUMMARY:Breakfast Connect - October 2025
DESCRIPTION:Breakfast Connect   l   The Future of Higher Education\nHigher education is facing big shifts enrollment changes\, rising costs\, AI integration\, and a rapidly evolving workforce. What does all this mean for students\, employers\, and communities across North Idaho?\n\n \n\nJoin us for Breakfast Connect\, where Presidents from our region's top higher education institutions will share insights\, challenges\, and bold ideas shaping the future of education.\n\n \n\nPanelists:\n\n\n	Dr. Cynthia Pemberton\, Lewis-Clark State College\n	Dr. Nick Swayne\, North Idaho College\n	Dr. Andrew Fields\, University of Idaho\, Coeur d'Alene\n\n\n\n\nDon't miss this opportunity to hear directly from our higher-ed leaders\, ask questions\, and gain a fresh perspective on how our region is preparing tomorrow's workforce today!
X-ALT-DESC;FMTTYPE=text/html:<span style="font-family:verdana\;"><font color="#000000"><span style="font-size: 20px\;"><b>Breakfast Connect&nbsp\; &nbsp\;l&nbsp\; &nbsp\;The Future of Higher Education</b></span></font></span>\n<p class="x_mcePastedContent" style="margin: 0px\; padding: 0px\; word-break: break-word\; color: rgb(0\, 0\, 0)\; font-family: &quot\;Helvetica Neue&quot\;\, Helvetica\, Arial\, Verdana\, sans-serif\; font-size: 16px\; line-height: 1.5\; direction: ltr\;"><span style="font-size:14px\;"><span style="font-family:verdana\;"><span data-olk-copy-source="MessageBody" style="border: 0px\; font-style: inherit\; font-variant: inherit\; font-weight: inherit\; font-stretch: inherit\; line-height: inherit\; font-optical-sizing: inherit\; font-size-adjust: inherit\; font-kerning: inherit\; font-feature-settings: inherit\; font-variation-settings: inherit\; margin: 0px\; padding: 0px\; vertical-align: baseline\; color: inherit\;">Higher education is facing big shifts&mdash\;enrollment changes\, rising costs\, AI integration\, and a rapidly evolving workforce. What does all this mean for students\, employers\, and communities across North Idaho?</span></span></span></p>\n\n<p class="x_mcePastedContent" style="margin: 0px\; padding: 0px\; word-break: break-word\; color: rgb(0\, 0\, 0)\; font-family: &quot\;Helvetica Neue&quot\;\, Helvetica\, Arial\, Verdana\, sans-serif\; font-size: 16px\; line-height: 1.5\; direction: ltr\;">&nbsp\;</p>\n\n<p class="x_mcePastedContent" style="margin: 0px\; padding: 0px\; word-break: break-word\; color: rgb(0\, 0\, 0)\; font-family: &quot\;Helvetica Neue&quot\;\, Helvetica\, Arial\, Verdana\, sans-serif\; font-size: 16px\; line-height: 1.5\; direction: ltr\;"><span style="font-size:14px\;"><span style="font-family:verdana\;"><span style="border: 0px\; font-style: inherit\; font-variant: inherit\; font-weight: inherit\; font-stretch: inherit\; line-height: inherit\; font-optical-sizing: inherit\; font-size-adjust: inherit\; font-kerning: inherit\; font-feature-settings: inherit\; font-variation-settings: inherit\; margin: 0px\; padding: 0px\; vertical-align: baseline\; color: inherit\;">Join us for Breakfast Connect\, where Presidents&nbsp\;from our region&rsquo\;s top higher education institutions will share insights\, challenges\, and bold ideas shaping the future of education.</span></span></span></p>\n\n<p class="x_mcePastedContent" style="margin: 0px\; padding: 0px\; word-break: break-word\; color: rgb(0\, 0\, 0)\; font-family: &quot\;Helvetica Neue&quot\;\, Helvetica\, Arial\, Verdana\, sans-serif\; font-size: 16px\; line-height: 1.5\; direction: ltr\;">&nbsp\;</p>\n\n<p class="x_mcePastedContent" style="margin: 0px\; padding: 0px\; word-break: break-word\; color: rgb(0\, 0\, 0)\; font-family: &quot\;Helvetica Neue&quot\;\, Helvetica\, Arial\, Verdana\, sans-serif\; font-size: 16px\; line-height: 1.5\; direction: ltr\;"><span style="font-size:14px\;"><span style="font-family:verdana\;"><span style="border: 0px\; font-style: inherit\; font-variant: inherit\; font-weight: inherit\; font-stretch: inherit\; line-height: inherit\; font-optical-sizing: inherit\; font-size-adjust: inherit\; font-kerning: inherit\; font-feature-settings: inherit\; font-variation-settings: inherit\; margin: 0px\; padding: 0px\; vertical-align: baseline\; color: inherit\;">Panelists:</span></span></span></p>\n\n<ul dir="ltr">\n	<li class="x_mcePastedContent" style="margin: 0px\; padding: 0px\; word-break: break-word\; color: rgb(0\, 0\, 0)\; font-family: &quot\;Helvetica Neue&quot\;\, Helvetica\, Arial\, Verdana\, sans-serif\; font-size: 16px\; line-height: 1.5\;">Dr. Cynthia Pemberton\, Lewis-Clark State College</li>\n	<li class="x_mcePastedContent" style="margin: 0px\; padding: 0px\; word-break: break-word\; color: rgb(0\, 0\, 0)\; font-family: &quot\;Helvetica Neue&quot\;\, Helvetica\, Arial\, Verdana\, sans-serif\; font-size: 16px\; line-height: 1.5\;"><span style="font-size:14px\;"><span style="font-family:verdana\;"><span style="border: 0px\; font-style: inherit\; font-variant: inherit\; font-weight: inherit\; font-stretch: inherit\; line-height: inherit\; font-optical-sizing: inherit\; font-size-adjust: inherit\; font-kerning: inherit\; font-feature-settings: inherit\; font-variation-settings: inherit\; margin: 0px\; padding: 0px\; vertical-align: baseline\; color: inherit\;">Dr. Nick Swayne\, North Idaho College</span></span></span></li>\n	<li class="x_mcePastedContent" style="margin: 0px\; padding: 0px\; word-break: break-word\; color: rgb(0\, 0\, 0)\; font-family: &quot\;Helvetica Neue&quot\;\, Helvetica\, Arial\, Verdana\, sans-serif\; font-size: 16px\; line-height: 1.5\;"><span style="font-size:14px\;"><span style="font-family:verdana\;"><span style="border: 0px\; font-style: inherit\; font-variant: inherit\; font-weight: inherit\; font-stretch: inherit\; line-height: inherit\; font-optical-sizing: inherit\; font-size-adjust: inherit\; font-kerning: inherit\; font-feature-settings: inherit\; font-variation-settings: inherit\; margin: 0px\; padding: 0px\; vertical-align: baseline\; color: inherit\;">Dr. Andrew Fields\, University of Idaho\, Coeur d&#39\;Alene</span></span></span></li>\n</ul>\n\n<p class="x_mcePastedContent" style="margin: 0px\; padding: 0px\; word-break: break-word\; color: rgb(0\, 0\, 0)\; font-family: &quot\;Helvetica Neue&quot\;\, Helvetica\, Arial\, Verdana\, sans-serif\; font-size: 16px\; line-height: 1.5\; direction: ltr\;"><br />\n<span style="font-size:14px\;"><span style="font-family:verdana\;"><span style="border: 0px\; font-style: inherit\; font-variant: inherit\; font-weight: inherit\; font-stretch: inherit\; line-height: inherit\; font-optical-sizing: inherit\; font-size-adjust: inherit\; font-kerning: inherit\; font-feature-settings: inherit\; font-variation-settings: inherit\; margin: 0px\; padding: 0px\; vertical-align: baseline\; color: inherit\;">Don&rsquo\;t miss this opportunity to hear directly from our higher-ed leaders\, ask questions\, and gain a fresh perspective on how our region is preparing tomorrow&rsquo\;s workforce today!</span></span></span></p>\n
LOCATION:The Coeur d'Alene Resort Conference Rooms 115 S 2nd St\, Coeur d'Alene\, ID 83814
UID:e.843.32086
SEQUENCE:3
DTSTAMP:20260421T104017Z
URL:http://directory.cdachamber.com/events/details/breakfast-connect-october-2025-32086
END:VEVENT

END:VCALENDAR
