BEGIN:VCALENDAR
VERSION:2.0
PRODID:-//ChamberMaster//Event Calendar 2.0//EN
METHOD:PUBLISH
X-PUBLISHED-TTL:P3D
REFRESH-INTERVAL:P3D
CALSCALE:GREGORIAN
BEGIN:VEVENT
DTSTART:20250610T140000Z
DTEND:20250610T160000Z
X-MICROSOFT-CDO-ALLDAYEVENT:FALSE
SUMMARY:Breakfast Connect - June 2025
DESCRIPTION:THE ROAD AHEAD: WHAT'S COMING TO CDA'S ROADS\n\nJoin us at the next Breakfast Connect as Rob Beachler from Idaho Transportation Department shares what's on deck for Coeur d'Alene's infrastructure. From the long-anticipated I-90 corridor expansion to redesigned interchanges and major local road improvements\, big changes are coming over the next five years.\n\n \n\nYou'll also get the inside scoop on Summer 2025 construction plans how lane closures\, bridge replacements\, and tourist season congestion will be managed\, and what mitigation strategies are in place to keep traffic flowing. Don't miss this vital update on the projects shaping our region's future.
X-ALT-DESC;FMTTYPE=text/html:<p direction:="" font-size:="" helvetica="" line-height:="" style="margin: 0px\; padding: 0px\; word-break: break-word\; color: rgb(0\, 0\, 0)\; font-family: " text-align:=""><span style="font-family:arial\;"><span style="color:#000000\;"><span style="font-size:18px\;"><span style="border: 0px\; font-style: inherit\; font-variant: inherit\; font-weight: inherit\; font-stretch: inherit\; line-height: inherit\; font-optical-sizing: inherit\; font-size-adjust: inherit\; font-kerning: inherit\; font-feature-settings: inherit\; font-variation-settings: inherit\; margin: 0px\; padding: 0px\; vertical-align: baseline\;"><span style="border: 0px\; font-style: inherit\; font-variant: inherit\; font-weight: inherit\; font-stretch: inherit\; line-height: inherit\; font-optical-sizing: inherit\; font-size-adjust: inherit\; font-kerning: inherit\; font-feature-settings: inherit\; font-variation-settings: inherit\; margin: 0px\; padding: 0px\; vertical-align: baseline\;"><span color:="" dm="" font-feature-settings:="" font-kerning:="" font-optical-sizing:="" font-size-adjust:="" font-variation-settings:="" margin:="" padding:="" style="border: 0px\; font-style: inherit\; font-variant: inherit\; font-weight: inherit\; font-stretch: inherit\; line-height: inherit\;" vertical-align:=""><strong>THE ROAD AHEAD: WHAT&#39\;S COMING TO CDA&#39\;S ROADS</strong><br />\nJoin us at the next Breakfast Connect as Rob Beachler from Idaho Transportation Department shares what&rsquo\;s on deck for Coeur d&rsquo\;Alene&rsquo\;s infrastructure. From the long-anticipated I-90 corridor expansion to redesigned interchanges and major local road improvements\, big changes are coming over the next five years.</span></span></span></span></span></span></p>\n\n<p direction:="" font-size:="" helvetica="" line-height:="" style="margin: 0px\; padding: 0px\; word-break: break-word\; color: rgb(0\, 0\, 0)\; font-family: " text-align:="">&nbsp\;</p>\n\n<p direction:="" font-size:="" helvetica="" line-height:="" style="margin: 0px\; padding: 0px\; word-break: break-word\; color: rgb(0\, 0\, 0)\; font-family: " text-align:=""><span style="font-family:arial\;"><span style="color:#000000\;"><span style="font-size:18px\;"><span style="border: 0px\; font-style: inherit\; font-variant: inherit\; font-weight: inherit\; font-stretch: inherit\; line-height: inherit\; font-optical-sizing: inherit\; font-size-adjust: inherit\; font-kerning: inherit\; font-feature-settings: inherit\; font-variation-settings: inherit\; margin: 0px\; padding: 0px\; vertical-align: baseline\;"><span style="border: 0px\; font-style: inherit\; font-variant: inherit\; font-weight: inherit\; font-stretch: inherit\; line-height: inherit\; font-optical-sizing: inherit\; font-size-adjust: inherit\; font-kerning: inherit\; font-feature-settings: inherit\; font-variation-settings: inherit\; margin: 0px\; padding: 0px\; vertical-align: baseline\;"><span dm="" font-feature-settings:="" font-kerning:="" font-optical-sizing:="" font-size-adjust:="" font-variation-settings:="" margin:="" padding:="" style="border: 0px\; font-style: inherit\; font-variant: inherit\; font-weight: inherit\; font-stretch: inherit\; line-height: inherit\; font-family: " vertical-align:="">You&rsquo\;ll also get the inside scoop on Summer 2025 construction plans&mdash\;how lane closures\, bridge replacements\, and tourist season congestion will be managed\, and what mitigation strategies are in place to keep traffic flowing. Don&rsquo\;t miss this vital update on the projects shaping our region&rsquo\;s future.</span></span></span></span></span></span></p>\n
LOCATION:The Coeur d'Alene Resort | 115 S. 2nd St. Coeur d'Alene\, ID 83814 Conference Rooms 3-4
UID:e.843.32150
SEQUENCE:3
DTSTAMP:20260421T192915Z
URL:http://directory.cdachamber.com/events/details/breakfast-connect-june-2025-32150
END:VEVENT

END:VCALENDAR
