BEGIN:VCALENDAR
VERSION:2.0
PRODID:-//ChamberMaster//Event Calendar 2.0//EN
METHOD:PUBLISH
X-PUBLISHED-TTL:P3D
REFRESH-INTERVAL:P3D
CALSCALE:GREGORIAN
BEGIN:VEVENT
DTSTART:20231019T180000Z
DTEND:20231019T200000Z
X-MICROSOFT-CDO-ALLDAYEVENT:FALSE
SUMMARY:Beyond the Ballot Luncheon 2023
DESCRIPTION:Beyond the Ballot Luncheon: Civic Engagement\, Integrity and Outcomes\n\n\n\nElections are not a one-time event. They are an ongoing process that rely on active civic engagement\, integrity\, and the tangible outcomes that shape our society. Through data and policy\, "Beyond the Ballot" is an opportunity for citizens\, community leaders\, activists\, students\, and educators to gain a deeper understanding of elections in Idaho\, their role in the democratic process\, and its profound impact on society.\n\n\n\nKey Highlights:\n\n	Understanding Civic Engagement: Delve into the concept of civic duty and discover how every citizen's involvement extends far beyond the voting booth. Learn how to influence policy\, advocate for change\, and make a difference in our community.\n	Preserving Election Integrity: Explore the critical mechanisms that ensure trustworthy elections. Secretary of State\, Phil McGrane will discuss election security\, transparency\, and the importance of safeguarding our democratic systems.\n	Driving Civic Outcomes: Learn how your participation in the democratic process can lead to meaningful change. Discover the ripple effect of your vote and engagement on our community\, state\, and nation.\n	Inspiring Discussions: Engage in open Q&A with the Secretary of State. Led by Tyrel Stevenson\, Legislative Director\, Coeur d'Alene Tribe\, participants will have the opportunity to ask questions about democracy in the state of Idaho\, civic engagement\, and election integrity.\n	Networking Opportunities: Connect with individuals who share your passion for civic engagement. Forge partnerships and collaborations to drive positive change in your community.\n\n \n\nWho Should Attend:\n\nThis event is for everyone who believes in the power of civic engagement and the importance of upholding the integrity of our elections. Whether you're an experienced advocate or just starting your civic journey\, this event has something valuable to offer.\n\n\n\nSponsorships Available: Contact katierose@cdachamber.com \n\n\n\nMENU\n\nWine Barrel Chicken Salad\n\nOrganic greens\, white cheddar (D)\, apples\, celery\, craisins\, red grapes\, candied pecans (N)\, port poached pear. Creamy herb dressing (D) and champagne vinaigrette on the side.\n\n\n\nVegetarian option (no chicken) available
X-ALT-DESC;FMTTYPE=text/html:<span style="font-size:16px\;"><span style="font-family:tahoma\;"><strong>Beyond the Ballot Luncheon: Civic Engagement\, Integrity and Outcomes</strong></span></span><br>\n<br>\n<span style="font-family:verdana\;">Elections are not a one-time event. They are an ongoing process that rely on active civic engagement\, integrity\, and the tangible outcomes that shape our society. Through data and policy\, "Beyond the Ballot" is an opportunity for citizens\, community leaders\, activists\, students\, and educators to gain a deeper understanding of elections in Idaho\, their role in the democratic process\, and its profound impact on society.<br>\n<br>\n<strong>Key Highlights:</strong></span>\n<ul>\n	<li><span style="font-family:verdana\;"><strong>Understanding Civic Engagement</strong>: Delve into the concept of civic duty and discover how every citizen's involvement extends far beyond the voting booth. Learn how to influence policy\, advocate for change\, and make a difference in our community.</span></li>\n	<li><span style="font-family:verdana\;"><strong>Preserving Election Integrity</strong>: Explore the critical mechanisms that ensure trustworthy elections. Secretary of State\, Phil McGrane will discuss election security\, transparency\, and the importance of safeguarding our democratic systems.</span></li>\n	<li><span style="font-family:verdana\;"><strong>Driving Civic Outcomes</strong>: Learn how your participation in the democratic process can lead to meaningful change. Discover the ripple effect of your vote and engagement on our community\, state\, and nation.</span></li>\n	<li><span style="font-family:verdana\;"><strong>Inspiring Discussions</strong>: Engage in open Q&amp\;A with the Secretary of State. Led by Tyrel Stevenson\, Legislative Director\, Coeur d'Alene Tribe\, participants will have the opportunity to ask questions about democracy in the state of Idaho\, civic engagement\, and election integrity.</span></li>\n	<li><span style="font-family:verdana\;"><strong>Networking Opportunities</strong>: Connect with individuals who share your passion for civic engagement. Forge partnerships and collaborations to drive positive change in your community.</span></li>\n</ul>\n<span style="font-family:verdana\;">&nbsp\;<br>\n<strong>Who Should Attend</strong>:<br>\nThis event is for everyone who believes in the power of civic engagement and the importance of upholding the integrity of our elections. Whether you're an experienced advocate or just starting your civic journey\, this event has something valuable to offer.</span><br>\n<br>\nSponsorships Available: Contact katierose@cdachamber.com&nbsp\;<br>\n<br>\n<span style="color:#0000CD\;"><strong>MENU</strong></span><br>\n<strong>Wine Barrel Chicken Salad</strong><br>\nOrganic greens\, white cheddar (D)\, apples\, celery\, craisins\, red grapes\, candied pecans (N)\, port poached pear. Creamy herb dressing (D) and champagne vinaigrette on the side.<br>\n<br>\nVegetarian option (no chicken) available
LOCATION:Hagadone Event Center 900 S. Floating Green Dr\, Coeur d'Alene
UID:e.843.29728
SEQUENCE:3
DTSTAMP:20260423T054357Z
URL:http://directory.cdachamber.com/events/details/beyond-the-ballot-luncheon-2023-29728
END:VEVENT

END:VCALENDAR
