BEGIN:VCALENDAR
VERSION:2.0
PRODID:-//ChamberMaster//Event Calendar 2.0//EN
METHOD:PUBLISH
X-PUBLISHED-TTL:P3D
REFRESH-INTERVAL:P3D
CALSCALE:GREGORIAN
BEGIN:VEVENT
DTSTART:20220901T230000Z
DTEND:20220902T020000Z
X-MICROSOFT-CDO-ALLDAYEVENT:FALSE
SUMMARY:B.Y.O.P. Putt-Putt Tournament 2022
DESCRIPTION:____________________________________________________________________\n\n\n\nB Y O P  P U T T - P U T T  T O U R N A M E N T\n\n\n\n14th Annual\n\n \nThe CDA Regional Chamber Membership Outreach Committee is pleased to host our annual BYOP Putt-Putt Tournament! Get your team together and let's putt!\n\n\n	18 holes\, 5 person teams\n	Beer\, beverages\, and food provided\n	Award prizes including lowest score and highest score\n\n\n\nSponsorship opportunities available. It's a great way to promote your business! Interested? Email our Member Experience team at Connect@cdachamber.com.
X-ALT-DESC;FMTTYPE=text/html:<div data-paragraph="true"><span style="color: rgb(8\, 85\, 150)\; font-size: 24px\;"><strong><span style="font-family: &quot\;segoe ui&quot\;\, sans-serif\;"><span style="font-family: verdana\;"><span style="font-family: tahoma\;">____________________________________________________________________<br />\n<br />\nB Y O P&nbsp\; P U T T - P U T T&nbsp\; T O U R N A M E N T</span></span></span></strong></span><br style="color: rgb(8\, 85\, 150)\; font-size: 16px\;" />\n<br />\n<span style="color: rgb(8\, 85\, 150)\; font-size: 16px\; font-family: &quot\;segoe ui&quot\;\, sans-serif\;"><span style="font-family: verdana\;"><span style="font-size: 18px\;"><strong><span style="font-family: &quot\;times new roman&quot\;\;"><em><span style="font-size: 20px\;">14th Annual</span></em></span></strong></span></span></span><br />\n&nbsp\;\n<div data-paragraph="true"><span style="font-family:verdana\;"><span style="font-size:14px\;">The CDA Regional Chamber Membership Outreach Committee is pleased to host our annual BYOP Putt-Putt Tournament! Get your team together and let&#39\;s putt!</span></span></div>\n\n<ul>\n	<li style="text-align:left\;"><span style="font-family:verdana\;"><span style="font-size:14px\;">18 holes\, 5 person teams</span></span></li>\n	<li style="text-align:left\;"><span style="font-family:verdana\;"><span style="font-size:14px\;">Beer\, beverages\, and food provided</span></span></li>\n	<li style="text-align:left\;"><span style="font-family:verdana\;"><span style="font-size:14px\;">Award prizes including lowest score and highest score</span></span></li>\n</ul>\n\n<div>\n<div><span style="color: rgb(0\, 0\, 0)\; font-family: Calibri\, sans-serif\; font-size: 15px\; text-align: center\;">Sponsorship opportunities available. It&#39\;s a great way to promote your business! Interested? Email&nbsp\;</span><i style="box-sizing: border-box\; color: rgb(0\, 0\, 0)\; font-family: Calibri\, sans-serif\; font-size: 15px\; text-align: center\;">our Member Experience team at&nbsp\;</i><a data-custom="link" href="mailto:Connect@cdachamber.com" style="box-sizing: border-box\; color: rgb(8\, 85\, 150)\; text-decoration-line: none\; font-family: Calibri\, sans-serif\; font-size: 15px\; text-align: center\;"><span style="box-sizing: border-box\; color: rgb(44\, 99\, 210)\;"><i style="box-sizing: border-box\;">Connect@cdachamber.com</i></span></a><i style="box-sizing: border-box\; color: rgb(0\, 0\, 0)\; font-family: Calibri\, sans-serif\; font-size: 15px\; text-align: center\;">.</i></div>\n</div>\n</div>\n
LOCATION:Parkside Tower Putting Green 601 E. Front Ave. Coeur d'Alene\, ID 83814
UID:e.843.25529
SEQUENCE:3
DTSTAMP:20260424T071033Z
URL:http://directory.cdachamber.com/events/details/b-y-o-p-putt-putt-tournament-2022-25529
END:VEVENT

END:VCALENDAR
