BEGIN:VCALENDAR
VERSION:2.0
PRODID:-//ChamberMaster//Event Calendar 2.0//EN
METHOD:PUBLISH
X-PUBLISHED-TTL:P3D
REFRESH-INTERVAL:P3D
CALSCALE:GREGORIAN
BEGIN:VEVENT
DTSTART:20251022T180000Z
DTEND:20251022T203000Z
X-MICROSOFT-CDO-ALLDAYEVENT:FALSE
SUMMARY:5th Annual Women's Luncheon 2025
DESCRIPTION:Featuring Keynote Speaker Amanda Knox\n\nJoin us for a powerful afternoon of inspiration\, empowerment\, and community at our 5th Annual Women's Luncheon - a signature event celebrating the strength\, courage\, and resilience.\n\nThis year\, we are honored to welcome Amanda Knox as our keynote speaker. At just 20 years old\, Amanda found herself at the center of one of the most high-profile wrongful conviction cases in modern history. While studying abroad in Italy\, she was accused and imprisoned for a crime she did not commit - the 2007 murder of her roommate\, Meredith Kercher. After nearly four years in an Italian prison and an intense legal battle marked by global media frenzy\, Amanda was fully exonerated in 2015 by Italy's highest court.\n\nToday\, Amanda is a journalist\, author\, podcast host\, and passionate advocate for criminal justice reform. Through her lived experience\, she speaks boldly about truth\, media distortion\, identity\, and what it means to reclaim your voice in the aftermath of trauma and injustice.\n\nExpect an unforgettable afternoon filled with heartfelt storytelling\, meaningful connections\, and inspiration to rise through your own moments of adversity.
X-ALT-DESC;FMTTYPE=text/html:<div style="clear:both\;">\n<div style="clear: both\;">\n<p data-end="308" data-start="205"><span style="font-size:18px\;"><span style="color:#000000\;"><span style="font-family:arial\;"><strong data-end="246" data-start="205">Featuring Keynote Speaker Amanda Knox</strong></span></span></span></p>\n\n<p data-end="504" data-start="310"><span style="font-size:18px\;"><span style="color:#000000\;"><span style="font-family:arial\;">Join us for a powerful afternoon of inspiration\, empowerment\, and community at our <strong data-end="424" data-start="393">5th Annual Women&#39\;s Luncheon -</strong>&nbsp\;a signature event celebrating the strength\, courage\, and resilience.</span></span></span></p>\n\n<p data-end="1029" data-start="506"><span style="font-size:18px\;"><span style="color:#000000\;"><span style="font-family:arial\;">This year\, we are honored to welcome <strong data-end="558" data-start="543">Amanda Knox</strong> as our keynote speaker. At just 20 years old\, Amanda found herself at the center of one of the most high-profile wrongful conviction cases in modern history. While studying abroad in Italy\, she was accused and imprisoned for a crime she did not commit -&nbsp\;the 2007 murder of her roommate\, Meredith Kercher. After nearly four years in an Italian prison and an intense legal battle marked by global media frenzy\, Amanda was fully exonerated in 2015 by Italy&#39\;s highest court.</span></span></span></p>\n\n<p data-end="1311" data-start="1031"><span style="font-size:18px\;"><span style="color:#000000\;"><span style="font-family:arial\;">Today\, Amanda is a <strong data-end="1139" data-start="1050">journalist\, author\, podcast host\, and passionate advocate for criminal justice reform</strong>. Through her lived experience\, she speaks boldly about truth\, media distortion\, identity\, and what it means to reclaim your voice in the aftermath of trauma and injustice.</span></span></span></p>\n\n<p data-end="1380" data-start="1313"><span style="font-size:18px\;"><span style="color:#000000\;"><span style="font-family:arial\;"><strong data-end="1421" data-start="1384">Expect an unforgettable afternoon</strong> filled with heartfelt storytelling\, meaningful connections\, and inspiration to rise through your own moments of adversity.</span></span></span></p>\n</div>\n</div>\n
LOCATION:The Coeur d'Alene Resort 115 S 2nd St\, Coeur d'Alene\, ID 83815
UID:e.843.32154
SEQUENCE:3
DTSTAMP:20260421T085800Z
URL:http://directory.cdachamber.com/events/details/5th-annual-women-s-luncheon-2025-32154
END:VEVENT

END:VCALENDAR
