BEGIN:VCALENDAR
VERSION:2.0
PRODID:-//ChamberMaster//Event Calendar 2.0//EN
METHOD:PUBLISH
X-PUBLISHED-TTL:P3D
REFRESH-INTERVAL:P3D
CALSCALE:GREGORIAN
BEGIN:VEVENT
DTSTART:20240704T160000Z
DTEND:20240704T193000Z
X-MICROSOFT-CDO-ALLDAYEVENT:FALSE
SUMMARY:4th of July 2024 | VIP PARADE PARTY
DESCRIPTION:Enjoy an exclusive 4th of July experience at the Coeur d'Alene Regional Chamber! \n\n        Look forward to:\n\n        - Premium parade viewing above the crowds\n\n        - Parade commentary\n\n        - Live music\n\n        - Good food\n\n        - Refreshing beverages\n\n        - Indoor restrooms\n\n        - Air conditioning\n\n        - Making memories with friends and family\n\nAs a nonprofit organization\, all ticket proceeds go towards helping to recover the costs of the 4th of July parade! \n\nPARKING IN THE CHAMBER PARKING LOT WILL NOT BE AVAILABLE.\n\nPLEASE PLAN ACCORDINGLY.
X-ALT-DESC;FMTTYPE=text/html:<span style="font-family:arial\;"><span style="color:#000000\;">Enjoy an exclusive 4th of July experience at the Coeur d&#39\;Alene Regional Chamber!&nbsp\;<br />\n&nbsp\;&nbsp\;&nbsp\;&nbsp\;&nbsp\;&nbsp\;&nbsp\;&nbsp\;<u>Look forward to:</u><br />\n&nbsp\;&nbsp\;&nbsp\;&nbsp\;&nbsp\;&nbsp\;&nbsp\;&nbsp\;- Premium parade viewing&nbsp\;above the crowds<br />\n&nbsp\;&nbsp\;&nbsp\;&nbsp\;&nbsp\;&nbsp\;&nbsp\;&nbsp\;- Parade commentary<br />\n&nbsp\;&nbsp\;&nbsp\;&nbsp\;&nbsp\; &nbsp\; - Live music<br />\n&nbsp\;&nbsp\;&nbsp\;&nbsp\;&nbsp\;&nbsp\;&nbsp\;&nbsp\;- Good food<br />\n&nbsp\;&nbsp\;&nbsp\;&nbsp\;&nbsp\;&nbsp\;&nbsp\;&nbsp\;- Refreshing beverages<br />\n&nbsp\;&nbsp\;&nbsp\;&nbsp\;&nbsp\;&nbsp\;&nbsp\;&nbsp\;- Indoor restrooms<br />\n&nbsp\;&nbsp\;&nbsp\;&nbsp\;&nbsp\;&nbsp\;&nbsp\;&nbsp\;- Air conditioning<br />\n&nbsp\;&nbsp\;&nbsp\;&nbsp\;&nbsp\; &nbsp\; - Making memories with friends and family<br />\nAs a nonprofit organization\, all ticket proceeds go towards helping to recover the costs of the 4th of July parade!&nbsp\;</span><br />\n<span style="font-size:18px\;"><span style="color:#FF0000\;">PARKING IN THE CHAMBER PARKING LOT WILL NOT BE AVAILABLE.<br />\nPLEASE PLAN ACCORDINGLY.</span></span></span>
LOCATION:CDA Regional Chamber
UID:e.843.30984
SEQUENCE:3
DTSTAMP:20260422T134054Z
URL:http://directory.cdachamber.com/events/details/4th-of-july-2024-vip-parade-party-30984
END:VEVENT

END:VCALENDAR
