BEGIN:VCALENDAR
VERSION:2.0
PRODID:-//ChamberMaster//Event Calendar 2.0//EN
METHOD:PUBLISH
X-PUBLISHED-TTL:P3D
REFRESH-INTERVAL:P3D
CALSCALE:GREGORIAN
BEGIN:VEVENT
DTSTART:20241101T180000Z
DTEND:20241101T203000Z
X-MICROSOFT-CDO-ALLDAYEVENT:FALSE
SUMMARY:4th Annual Women's Luncheon 2024
DESCRIPTION:4th Annual Women's Luncheon: Empower - Engage - Elevate\n\nJoin us for an empowering and inspiring afternoon at our 4th Annual Women's Luncheon! This year's event promises to be an unforgettable experience as we bring together women from all walks of life to celebrate strength\, resilience\, and success. The luncheon will feature Liz Murray\, the incredible woman who went from homeless to Harvard.\n\n\n\nLiz Murray's life story is nothing short of extraordinary. Born to drug-addicted parents in the Bronx\, New York\, Liz faced unimaginable challenges from a young age. By the time she was 15\, she found herself homeless and struggling to survive on the streets.\n\nDespite these overwhelming odds\, Liz refused to give up on her dreams. She completed high school while living out of friends' apartments and on park benches. With sheer determination and an unbreakable spirit\, Liz applied to Harvard University and was accepted\, becoming a symbol of hope and resilience.\n\nLiz went on to earn her degree from Harvard and has since become an internationally recognized speaker\, author\, and advocate for at-risk youth. Her memoir\, Breaking Night: A Memoir of Forgiveness\, Survival\, and My Journey from Homeless to Harvard\, is a New York Times bestseller and has touched the hearts of readers worldwide.\n\nAt the 4th Annual Women's Luncheon\, Liz Murray will share her powerful story of perseverance\, the importance of education\, and the belief that no matter where you start in life\, anything is possible with hard work and determination.\n\nCome and be inspired by a woman who has transformed her life and is now dedicated to helping others do the same.
X-ALT-DESC;FMTTYPE=text/html:<div style="clear:both\;">\n<div style="clear: both\;">\n<p><span style="font-size:18px\;"><span style="font-family:arial\;"><span style="color:#000000\;"><strong>4th Annual Women&#39\;s Luncheon: Empower - Engage - Elevate</strong><br />\nJoin us for an empowering and inspiring afternoon at our 4th Annual Women&#39\;s Luncheon! This year&#39\;s event promises to be an unforgettable experience as we bring together women from all walks of life to celebrate strength\, resilience\, and success. The luncheon will feature Liz Murray\, the incredible woman who went from homeless to Harvard.<br />\n<br />\nLiz Murray&#39\;s life story is nothing short of extraordinary. Born to drug-addicted parents in the Bronx\, New York\, Liz faced unimaginable challenges from a young age. By the time she was 15\, she found herself homeless and struggling to survive on the streets.</span></span></span></p>\n\n<p><span style="color:#000000\;"><span style="font-size:18px\;"><span style="font-family:arial\;">Despite these overwhelming odds\, Liz refused to give up on her dreams. She completed high school while living out of friends&#39\; apartments and on park benches. With sheer determination and an unbreakable spirit\, Liz applied to Harvard University and was accepted\, becoming a symbol of hope and resilience.</span></span></span></p>\n\n<p><span style="color:#000000\;"><span style="font-size:18px\;"><span style="font-family:arial\;">Liz went on to earn her degree from Harvard and has since become an internationally recognized speaker\, author\, and advocate for at-risk youth. Her memoir\, <em>Breaking Night: A Memoir of Forgiveness\, Survival\, and My Journey from Homeless to Harvard\,</em> is a New York Times bestseller and has touched the hearts of readers worldwide.</span></span></span></p>\n\n<p><span style="color:#000000\;"><span style="font-size:18px\;"><span style="font-family:arial\;">At the 4th Annual Women&#39\;s Luncheon\, Liz Murray will share her powerful story of perseverance\, the importance of education\, and the belief that no matter where you start in life\, anything is possible with hard work and determination.</span></span></span></p>\n\n<p><span style="color:#000000\;"><span style="font-size:18px\;"><span style="font-family:arial\;">Come and be inspired by a woman who has transformed her life and is now dedicated to helping others do the same.</span></span></span></p>\n</div>\n</div>\n
LOCATION:The Coeur d'Alene Resort 115 S 2nd St\, Coeur d'Alene\, ID 83815
UID:e.843.30405
SEQUENCE:3
DTSTAMP:20260422T063757Z
URL:http://directory.cdachamber.com/events/details/4th-annual-women-s-luncheon-2024-30405
END:VEVENT

END:VCALENDAR
