BEGIN:VCALENDAR
VERSION:2.0
PRODID:-//ChamberMaster//Event Calendar 2.0//EN
METHOD:PUBLISH
X-PUBLISHED-TTL:P3D
REFRESH-INTERVAL:P3D
CALSCALE:GREGORIAN
BEGIN:VEVENT
DTSTART:20231117T190000Z
DTEND:20231117T210000Z
X-MICROSOFT-CDO-ALLDAYEVENT:FALSE
SUMMARY:3rd Annual Women's Luncheon 2023
DESCRIPTION:Join us for an impactful luncheon with local speaker\, Melissa Luck and keynote speaker\, Carmen Ohling!\n\n\n\nAfter working 16 years in a successful corporate career\, climbing the ladder\, earning the rewards\, and getting the promotions\, Carmen Ohling left.  She left after finally realizing that working through many seasons of burnout\, her way of living was not sustainable and was detrimental to all areas of her life\, including: her health\, relationships and connection with her authentic self.  She gave a month?s notice to follow her passion of guiding other high achieving women to write their own permission slip and live the life of their dreams! Today\, Carmen finds joy in everyday life. She doesn't have to wait for the weekend or the next vacation (although she loves to travel)\, the most amazing moments are happening right now\, today- in this very moment.\n\n\n\nMelissa Luck is an Emmy-nominated and Murrow Award-winning journalist currently leading a prominent television newsroom in Spokane. As a second-generation TV broadcaster\, she carries the torch of a family legacy\, proving that excellence in journalism runs in her blood. Melissa will share her journey\; she has carved a remarkable path\, achieving a successful career while also orchestrating modifications that ensured her family could thrive. Her story is a source of inspiration\, reminding us that with resilience and thoughtful adjustments\, it's possible to attain greatness in multiple spheres of life while nurturing the well-being of those closest to our hearts.
X-ALT-DESC;FMTTYPE=text/html:<div style="clear:both\;">\n<div style="clear: both\;">Join us for an impactful luncheon with local speaker\, Melissa Luck and keynote speaker\, Carmen Ohling!<br />\n<br />\nAfter working 16 years in a successful corporate career\, climbing the ladder\, earning the rewards\, and getting the promotions\, Carmen Ohling left.&nbsp\; She left after finally realizing that working through many seasons of burnout\, her way of living was not sustainable and was detrimental to all areas of her life\, including: her health\, relationships and connection with her authentic self.&nbsp\; She gave a month?s notice to follow her passion of guiding other high achieving women to write their own permission slip and live the life of their dreams! Today\, Carmen&nbsp\;finds joy in everyday life. She doesn&#39\;t&nbsp\;have to wait for the weekend or the next vacation (although she&nbsp\;loves to travel)\, the most amazing moments are happening right now\, today- in this very moment.<br />\n<br />\nMelissa Luck is an Emmy-nominated and Murrow Award-winning journalist currently leading a prominent television newsroom in Spokane.&nbsp\;As a second-generation TV broadcaster\, she carries the torch of a family legacy\, proving that excellence in journalism runs in her blood. Melissa will share her journey\; she has carved a remarkable path\, achieving a successful career while also orchestrating modifications that ensured her family could thrive. Her story is a source of inspiration\, reminding us that with resilience and thoughtful adjustments\, it&#39\;s possible to attain greatness in multiple spheres of life while nurturing the well-being of those closest to our hearts.</div>\n</div>\n
LOCATION:
UID:e.843.27990
SEQUENCE:3
DTSTAMP:20260423T051858Z
URL:http://directory.cdachamber.com/events/details/3rd-annual-women-s-luncheon-2023-27990
END:VEVENT

END:VCALENDAR
