BEGIN:VCALENDAR
VERSION:2.0
PRODID:-//ChamberMaster//Event Calendar 2.0//EN
METHOD:PUBLISH
X-PUBLISHED-TTL:P3D
REFRESH-INTERVAL:P3D
CALSCALE:GREGORIAN
BEGIN:VEVENT
DTSTART:20250919T160000Z
DTEND:20250920T000000Z
X-MICROSOFT-CDO-ALLDAYEVENT:FALSE
SUMMARY:2025 Leadership Classic: A Leader's Tournament
DESCRIPTION:Swing For Impact at the 2025 Leadership Classic!   \n\n \n\nDon't miss one of our favorite end-of-summer traditions! The Leadership Classic Golf Tournament! Spend the day enjoying friendly competition\, fresh air\, and great company. This year\, a portion of the proceeds will support a local nonprofit Chamber member\, making every drive\, putt\, and high-five count toward a stronger community. Whether you're chasing a trophy or just soaking in the fun\, this is your chance to connect\, give back\, and make an impact on and off the green.\n\n\n\nInterested in sponsoring this event? Email: Bethany@cdachamber.com
X-ALT-DESC;FMTTYPE=text/html:<p style="margin: 0px\; padding: 0px\; word-break: break-word\; color: rgb(0\, 0\, 0)\; font-family: &quot\;Helvetica Neue&quot\;\, Helvetica\, Arial\, Verdana\, sans-serif\; font-size: 16px\; line-height: 1.5\; direction: ltr\;"><span style="font-size:14px\;"><span style="font-family:verdana\;"><strong><span style="border: 0px\; font-style: inherit\; font-variant: inherit\; font-weight: inherit\; font-stretch: inherit\; line-height: inherit\; font-optical-sizing: inherit\; font-size-adjust: inherit\; font-kerning: inherit\; font-feature-settings: inherit\; font-variation-settings: inherit\; margin: 0px\; padding: 0px\; vertical-align: baseline\;"><span data-olk-copy-source="MessageBody" style="border: 0px\; font-style: inherit\; font-variant: inherit\; font-weight: inherit\; font-stretch: inherit\; line-height: inherit\; font-optical-sizing: inherit\; font-size-adjust: inherit\; font-kerning: inherit\; font-feature-settings: inherit\; font-variation-settings: inherit\; margin: 0px\; padding: 0px\; vertical-align: baseline\; color: inherit\;">Swing For Impact at the 2025 Leadership Classic!</span></span></strong><span style="border: 0px\; font-style: inherit\; font-variant: inherit\; font-weight: inherit\; font-stretch: inherit\; line-height: inherit\; font-optical-sizing: inherit\; font-size-adjust: inherit\; font-kerning: inherit\; font-feature-settings: inherit\; font-variation-settings: inherit\; margin: 0px\; padding: 0px\; vertical-align: baseline\;"><span style="border: 0px\; font-style: inherit\; font-variant: inherit\; font-weight: inherit\; font-stretch: inherit\; line-height: inherit\; font-optical-sizing: inherit\; font-size-adjust: inherit\; font-kerning: inherit\; font-feature-settings: inherit\; font-variation-settings: inherit\; margin: 0px\; padding: 0px\; vertical-align: baseline\; color: inherit\;">&nbsp\;&#9971\;&#65039\;</span></span></span></span></p>\n\n<p class="x_mcePastedContent" style="margin: 0px\; padding: 0px\; word-break: break-word\; color: rgb(0\, 0\, 0)\; font-family: &quot\;Helvetica Neue&quot\;\, Helvetica\, Arial\, Verdana\, sans-serif\; font-size: 16px\; line-height: 1.5\; direction: ltr\;">&nbsp\;</p>\n\n<p class="x_mcePastedContent" style="margin: 0px\; padding: 0px\; word-break: break-word\; color: rgb(0\, 0\, 0)\; font-family: &quot\;Helvetica Neue&quot\;\, Helvetica\, Arial\, Verdana\, sans-serif\; font-size: 16px\; line-height: 1.5\; direction: ltr\;"><span style="font-size:14px\;"><span style="font-family:verdana\;"><span style="border: 0px\; font-style: inherit\; font-variant: inherit\; font-weight: inherit\; font-stretch: inherit\; line-height: inherit\; font-optical-sizing: inherit\; font-size-adjust: inherit\; font-kerning: inherit\; font-feature-settings: inherit\; font-variation-settings: inherit\; margin: 0px\; padding: 0px\; vertical-align: baseline\; color: inherit\;">Don&#39\;t miss one of our favorite end-of-summer traditions!&nbsp\;The Leadership Classic Golf Tournament! Spend the day enjoying friendly competition\, fresh air\, and great company. This year\, a portion of the proceeds will support a local nonprofit Chamber member\, making every drive\, putt\, and high-five count toward a stronger community. Whether you&#39\;re chasing a trophy or just soaking in the fun\, this is your chance to connect\, give back\, and make an impact on and off the green.</span><br />\n<br />\n<span style="color: rgb(51\, 51\, 51)\;">Interested in sponsoring this event? Email: Bethany@cdachamber.com</span></span></span></p>\n
LOCATION:Highlands Golf Course 5600 E. Mullan Ave\, Post Falls\, ID 83854
UID:e.843.32151
SEQUENCE:3
DTSTAMP:20260421T122604Z
URL:http://directory.cdachamber.com/events/details/2025-leadership-classic-a-leader-s-tournament-32151
END:VEVENT

END:VCALENDAR
