BEGIN:VCALENDAR
VERSION:2.0
PRODID:-//ChamberMaster//Event Calendar 2.0//EN
METHOD:PUBLISH
X-PUBLISHED-TTL:P3D
REFRESH-INTERVAL:P3D
CALSCALE:GREGORIAN
BEGIN:VEVENT
DTSTART:20250704T160000Z
DTEND:20250704T190000Z
X-MICROSOFT-CDO-ALLDAYEVENT:FALSE
SUMMARY:2025 4th of July - V.I.P. Parade Party
DESCRIPTION:4th of July VIP Parade Party at the CDA Regional Chamber\n\nCelebrate Independence Day in style at the best viewing spot in town right here at the Coeur d'Alene Regional Chamber! Our exclusive VIP Parade Party offers the ultimate comfort and entertainment as the parade rolls by. Enjoy delicious food\, refreshing drinks\, air conditioning\, and access to clean\, private bathrooms. Get into the festive spirit with live music and a dedicated live commentator guiding you through all the parade highlights. Whether you're looking to escape the crowds or just want to enjoy the show in style\, this is your front-row seat to the best of the 4th!
X-ALT-DESC;FMTTYPE=text/html:<span style="color:#000000\;"><span style="font-family:arial\;"><span style="font-size:18px\;"><strong data-end="60" data-start="0">4th of July VIP Parade Party at the CDA Regional Chamber</strong><br data-end="63" data-start="60" />\nCelebrate Independence Day in style at the best viewing spot in town&mdash\;right here at the Coeur d&#39\;Alene Regional Chamber! Our exclusive VIP Parade Party offers the ultimate comfort and entertainment as the parade rolls by. Enjoy delicious food\, refreshing drinks\, air conditioning\, and access to clean\, private bathrooms. Get into the festive spirit with live music and a dedicated live commentator guiding you through all the parade highlights. Whether you&#39\;re looking to escape the crowds or just want to enjoy the show in style\, this is your front-row seat to the best of the 4th!</span></span></span>
LOCATION:The CDA Regional Chamber Visitors Center 105 N. 1st Street\, Coeur d'Alene\, ID 83815
UID:e.843.32199
SEQUENCE:3
DTSTAMP:20260421T161026Z
URL:http://directory.cdachamber.com/events/details/2025-4th-of-july-v-i-p-parade-party-32199
END:VEVENT

END:VCALENDAR
