BEGIN:VCALENDAR
VERSION:2.0
PRODID:-//ChamberMaster//Event Calendar 2.0//EN
METHOD:PUBLISH
X-PUBLISHED-TTL:P3D
REFRESH-INTERVAL:P3D
CALSCALE:GREGORIAN
BEGIN:VEVENT
DTSTART;VALUE=DATE:20241111
DTEND;VALUE=DATE:20241114
TRANSP:TRANSPARENT
X-MICROSOFT-CDO-ALLDAYEVENT:TRUE
SUMMARY:2024 Idaho Legislative Tour-Coeur d'Alene
DESCRIPTION:Brought to you jointly by Idaho Chamber Alliance and Coeur d'Alene Regional Chamber\, we cordially invite you to join us for an exclusive opportunity to showcase your business at the North Idaho Legislative Tour in Coeur d'Alene\, Idaho. As a sponsor\, your company will not only receive recognition and multiple mentions throughout the three-day tour\, but you will also have the chance to build valuable relationships with Idaho's State Legislators. At this high-impact executive exchange\, you will gain exclusive exposure to influential governmental leaders\, providing you with the opportunity to share our regional priorities and ultimately help shape regional policies.  This unique platform offers the opportunity to influence these leaders\, ensuring North Idaho's voice is considered as they shape our state's legislation.
X-ALT-DESC;FMTTYPE=text/html:<span style="color: rgb(42\, 42\, 42)\; font-family: &quot\;Open sans&quot\;\, sans-serif\; font-size: large\;">Brought to you jointly by Idaho Chamber Alliance and Coeur d&#39\;Alene Regional Chamber\, we cordially invite you to join us for an exclusive opportunity to showcase your business at the North Idaho Legislative Tour in Coeur d&#39\;Alene\, Idaho. As a sponsor\, your company will not only receive recognition and multiple mentions throughout the three-day tour\, but you will also have the chance to build valuable relationships with Idaho&#39\;s State Legislators. At this high-impact executive exchange\, you will gain exclusive exposure to influential governmental leaders\, providing you with the opportunity to share our regional priorities and ultimately help shape regional policies.&nbsp\; This unique platform offers the opportunity to influence these leaders\, ensuring North Idaho&#39\;s voice is considered as they shape our state&#39\;s legislation.</span>
LOCATION:Best Western Plus\, Coeur d'Alene Inn 506 W Appleway Ave\, Coeur d'Alene\, ID 83814
UID:e.843.31027
SEQUENCE:3
DTSTAMP:20260422T064031Z
URL:http://directory.cdachamber.com/events/details/2024-idaho-legislative-tour-coeur-d-alene-31027
END:VEVENT

END:VCALENDAR
