BEGIN:VCALENDAR
VERSION:2.0
PRODID:-//ChamberMaster//Event Calendar 2.0//EN
METHOD:PUBLISH
X-PUBLISHED-TTL:P3D
REFRESH-INTERVAL:P3D
CALSCALE:GREGORIAN
BEGIN:VEVENT
DTSTART:20230922T180000Z
DTEND:20230923T000000Z
X-MICROSOFT-CDO-ALLDAYEVENT:FALSE
SUMMARY:2023 Leadership Classic: A Leader's Tournament
DESCRIPTION:Get ready to hit the greens and have a swinging good time! Leadership Coeur d'Alene is taking over the course to create the most exciting and fun tournament of the season - the 2023 Leadership Classic: A Leader's Tournament! Whether you're a seasoned pro or a weekend warrior\, this event is the perfect opportunity to showcase your skills on the green\, compete for fantastic prizes\, and enjoy games throughout the course. \n\n\n\nBut this event is about more than just sinking putts and driving long shots - it's about making a positive impact. The Leadership Classic is teaming up with underserved nonprofits in Coeur d'Alene\, channeling most of the proceeds their way. So\, while you're having a ball on the course\, you'll also be supporting the community you love. Grab your clubs\, gather your golf buddies\, and join us on September 22 for a day packed with laughter\, friendly competition\, and loads of golfing excitement. We can't wait to see you there!\n\n\n\nFor more details about participation or sponsorship opportunities for the tournament\, please reach out to thelongestshaftgolftournament@gmail.com.\n\n\n\nAbout the 2023 Leadership Classic: A Leader's Tournament\n\nWe are thrilled to present the next-generation golf tournament\, The Leadership Classic: A Leader's Tournament\, which is sure to be the most fun and sought-after golf experience in the region!\n\n\n\nFor decades\, the Leadership Coeur d'Alene program has fostered the next generation of leaders. This year\, thanks to the incredible ideas and leadership of the Class of 2020-2021\, we have decided to combine all chamber golf tournaments into one and turn the reigns over to the Leadership Coeur d'Alene program\, so that we can make a bigger difference in our community\, together! We are proud to say that this new tournament will benefit a local charity\; we will be announcing our selection soon.\n\n\n\nPlease join us by registering for a team OR help us lead the way as a sponsor of this legacy tournament. Email thelongestshaftgolftournament@gmail.com\n\n\n	\n		\n			GOLF TEAM of 4\n			SOLD OUT\n		\n		\n			TITLE Sponsor\n			SOLD OUT\n		\n		\n			LUNCH ON ME Sponsor\n			SOLD OUT\n		\n		\n			FIRST ROUND ON ME Sponsor\n			SOLD OUT\n		\n		\n			GOLF SWAG Sponsor\n			SOLD OUT\n		\n		\n			KOOZIE Sponsor\n			SOLD OUT\n		\n		\n			BIRDIE BITES Sponsor\n			SOLD OUT\n		\n		\n			WATER BOTTLE Sponsor\n			SOLD OUT\n		\n		\n			GOLF CART Sponsor\n			SOLD OUT\n		\n		\n			DRIVING RANGE Sponsor\n			SOLD OUT\n		\n		\n			CLOSEST TO PIN Sponsor\n			SOLD OUT\n		\n		\n			LONGEST DRIVE Sponsor\n			SOLD OUT\n		\n		\n			HOLE Sponsor\n			SOLD OUT\n		\n		\n			FLAG Sponsor\n			SOLD OUT
X-ALT-DESC;FMTTYPE=text/html:<p>Get ready to hit the greens and have a swinging good time! Leadership Coeur d&#39\;Alene is taking over the course to create the most exciting and fun tournament of the season - the <strong>2023 Leadership Classic: A Leader&#39\;s Tournament</strong>! Whether you&#39\;re a seasoned pro or a weekend warrior\, this event is the perfect opportunity to showcase your skills on the green\, compete for fantastic prizes\, and enjoy <b>games throughout the course.&nbsp\;</b><br />\n<br />\nBut this event is about more than just sinking putts and driving long shots -&nbsp\;it&#39\;s about making a positive impact. The Leadership Classic is teaming up with underserved nonprofits in Coeur d&#39\;Alene\, channeling most of the proceeds their way. So\, while you&#39\;re having a ball on the course\, you&#39\;ll also be supporting the community you love. Grab your clubs\, gather your golf buddies\, and join us on September 22 for a day packed with laughter\, friendly competition\, and loads of golfing excitement. We can&#39\;t wait to see you there!<br />\n<br />\nFor more details about participation or <strong>sponsorship opportunities</strong> for the tournament\, please reach out to <a href="mailto:thelongestshaftgolftournament@gmail.com?subject=null&amp\;body=null"><span style="color: rgb(44\, 99\, 210)\;">thelongestshaftgolftournament@gmail.com</span></a><span style="color: rgb(44\, 99\, 210)\;">.</span><br />\n<br />\n<strong>About the 2023 Leadership Classic: A Leader&#39\;s Tournament</strong><br />\nWe are thrilled to present the next-generation golf tournament\, The Leadership Classic: A Leader&#39\;s Tournament\, which is sure to be the most fun and sought-after golf experience in the region!<br />\n<br />\nFor decades\, the Leadership Coeur d&#39\;Alene program has fostered the next generation of leaders. This year\, thanks to the incredible ideas and leadership of the Class of 2020-2021\, we have decided to combine all chamber golf tournaments into one and turn the reigns over to the Leadership Coeur d&#39\;Alene program\, so that we can make a bigger difference in our community\, together! We are proud to say that this new tournament will benefit a local charity\; we will be announcing our selection soon.<br />\n<br />\nPlease join us by registering for a team OR help us lead the way as a sponsor of this legacy tournament. Email <a href="mailto:thelongestshaftgolftournament@gmail.com ?subject=2023%20Leadership%20Classic%20Sponsorship%20Opportunities">thelongestshaftgolftournament@gmail.com</a></p>\n\n<table>\n	<tbody>\n		<tr>\n			<td><u><strong>GOLF TEAM of 4</strong></u></td>\n			<td><span style="color:#FF0000\;"><u><b style="color: rgb(255\, 0\, 0)\;">SOLD OUT</b></u></span></td>\n		</tr>\n		<tr>\n			<td><strong>TITLE Sponsor</strong></td>\n			<td><span style="color:#FF0000\;"><b>SOLD OUT</b></span></td>\n		</tr>\n		<tr>\n			<td><strong>LUNCH ON ME Sponsor</strong></td>\n			<td><span style="color:#FF0000\;"><b>SOLD OUT</b></span></td>\n		</tr>\n		<tr>\n			<td><strong>FIRST ROUND ON ME Sponsor</strong></td>\n			<td><b style="color: rgb(255\, 0\, 0)\;">SOLD OUT</b></td>\n		</tr>\n		<tr>\n			<td><strong>GOLF SWAG Sponsor</strong></td>\n			<td><b style="color: rgb(255\, 0\, 0)\;">SOLD OUT</b></td>\n		</tr>\n		<tr>\n			<td><strong>KOOZIE Sponsor</strong></td>\n			<td><b style="color: rgb(255\, 0\, 0)\;">SOLD OUT</b></td>\n		</tr>\n		<tr>\n			<td><strong>BIRDIE BITES Sponsor</strong></td>\n			<td><b style="color: rgb(255\, 0\, 0)\;">SOLD OUT</b></td>\n		</tr>\n		<tr>\n			<td><strong>WATER BOTTLE Sponsor</strong></td>\n			<td><b style="color: rgb(255\, 0\, 0)\;">SOLD OUT</b></td>\n		</tr>\n		<tr>\n			<td><strong>GOLF CART Sponsor</strong></td>\n			<td><b style="color: rgb(255\, 0\, 0)\;">SOLD OUT</b></td>\n		</tr>\n		<tr>\n			<td><strong>DRIVING RANGE Sponsor</strong></td>\n			<td><span style="color:#FF0000\;"><b>SOLD OUT</b></span></td>\n		</tr>\n		<tr>\n			<td><strong>CLOSEST TO PIN Sponsor</strong></td>\n			<td><b style="color: rgb(255\, 0\, 0)\;">SOLD OUT</b></td>\n		</tr>\n		<tr>\n			<td><strong>LONGEST DRIVE Sponsor</strong></td>\n			<td><b style="color: rgb(255\, 0\, 0)\;">SOLD OUT</b></td>\n		</tr>\n		<tr>\n			<td><strong>HOLE Sponsor</strong></td>\n			<td><b style="color: rgb(255\, 0\, 0)\;">SOLD OUT</b></td>\n		</tr>\n		<tr>\n			<td><strong>FLAG Sponsor</strong></td>\n			<td><span style="color:#FF0000\;"><b>SOLD OUT</b></span></td>\n		</tr>\n	</tbody>\n</table>\n\n<p>&nbsp\;</p>\n
LOCATION:Highlands Golf Course 5600 E. Mullan Ave\, Post Falls\, ID 83854
UID:e.843.28698
SEQUENCE:3
DTSTAMP:20260423T071750Z
URL:http://directory.cdachamber.com/events/details/2023-leadership-classic-a-leader-s-tournament-28698
END:VEVENT

END:VCALENDAR
