BEGIN:VCALENDAR
VERSION:2.0
PRODID:-//ChamberMaster//Event Calendar 2.0//EN
METHOD:PUBLISH
X-PUBLISHED-TTL:P3D
REFRESH-INTERVAL:P3D
CALSCALE:GREGORIAN
BEGIN:VEVENT
DTSTART:20241204T230000Z
DTEND:20241205T013000Z
X-MICROSOFT-CDO-ALLDAYEVENT:FALSE
SUMMARY:112th Annual Awards Celebration 2024
DESCRIPTION:
X-ALT-DESC;FMTTYPE=text/html:
LOCATION:The Coeur d'Alene Resort 115 S. 2nd St. Coeur d'Alene\, ID 83814
UID:e.843.30406
SEQUENCE:3
DTSTAMP:20260422T043430Z
URL:http://directory.cdachamber.com/events/details/112th-annual-awards-celebration-2024-30406
END:VEVENT

END:VCALENDAR
