BEGIN:VCALENDAR
VERSION:2.0
PRODID:-//ChamberMaster//Event Calendar 2.0//EN
METHOD:PUBLISH
X-PUBLISHED-TTL:P3D
REFRESH-INTERVAL:P3D
CALSCALE:GREGORIAN
BEGIN:VEVENT
DTSTART:20231213T230000Z
DTEND:20231214T013000Z
X-MICROSOFT-CDO-ALLDAYEVENT:FALSE
SUMMARY:111th Annual Meeting & Awards Celebration 2023
DESCRIPTION:Join us as we celebrate 2023 as a year of incredible transformation in the areas of community engagement\, business excellence\, and collective growth! It's an opportunity to connect with fellow members\, honor outstanding achievements\, and forge new partnerships. \n\n \n\nOur afternoon will be filled with inspiration\, celebration\, and recognition of those who have made significant contributions to our regional community. We encourage you to join us in making history and shaping the future at this important gathering\, where we will reflect on our past accomplishments and set a course for even greater success in the years ahead. \n\n\n\nDon't miss this celebration. Don't forget to submit your nominations for large business\, small business\, nonprofit\, committee\, citizen\, and Ed Abbott Volunteer of the Year awards by Thursday\, November 30\, 2023\, no later than 3 pm. See you at the 111th Annual Meeting and Awards Celebration!\n\n\n\nSubmit your nominations HERE.
X-ALT-DESC;FMTTYPE=text/html:<span style="font-family:verdana\,sans-serif\;"><span style="font-size:12pt\;">Join us as we celebrate 2023 as a year of incredible transformation in the areas of community engagement\, business excellence\, and collective growth! It&#39\;s an opportunity to connect with fellow members\, honor outstanding achievements\, and forge new partnerships. </span></span><br />\n&nbsp\;<br />\n<span style="font-family:verdana\,sans-serif\;"><span style="font-size:12pt\;">Our afternoon will be filled with inspiration\, celebration\, and recognition of those who have made significant contributions to our regional community. We encourage you to join us in making history and shaping the future at this important gathering\, where we will reflect on our past accomplishments and set a course for even greater success in the years ahead. </span></span><br />\n<br />\n<span style="font-family:verdana\,sans-serif\;"><span style="font-size:12pt\;">Don&#39\;t miss this celebration. <strong>Don&rsquo\;t forget to submit your nominations for large business\, small business\, nonprofit\, committee\, citizen\, and Ed Abbott Volunteer of the Year awards by Thursday\, November 30\, 2023\, no later than 3 pm. </strong>See you at the 111th Annual Meeting and Awards Celebration!<br />\n<br />\n<strong>Submit your nominations <a href="https://cdachamber.com/2023-award-nominations/">HERE</a>.</strong></span></span>
LOCATION:The Coeur d'Alene Resort 115 S. 2nd St. Coeur d'Alene\, ID 83814
UID:e.843.28151
SEQUENCE:3
DTSTAMP:20260423T014211Z
URL:http://directory.cdachamber.com/events/details/111th-annual-meeting-awards-celebration-2023-28151
END:VEVENT

END:VCALENDAR
