BEGIN:VCALENDAR
VERSION:2.0
PRODID:-//ChamberMaster//Event Calendar 2.0//EN
METHOD:PUBLISH
X-PUBLISHED-TTL:P3D
REFRESH-INTERVAL:P3D
CALSCALE:GREGORIAN
BEGIN:VEVENT
DTSTART:20221216T020000Z
DTEND:20221216T040000Z
X-MICROSOFT-CDO-ALLDAYEVENT:FALSE
SUMMARY:110th Annual Meeting and Awards Banquet 2022
DESCRIPTION:_____________________________________________________________________________________________\n\nPlease join us for the Coeur d'Alene Regional Chamber's annual celebration of its successes of the past year and a look to the challenges of the future. The meeting will include installation of new Officers and giving thanks to outgoing Officers and Board Members. Member-nominated awards will be presented for the Ed Abbott Volunteer of the Year\, Citizen of the Year and Committee of the Year\, Nonprofit of the Year\, Large Business of the Year\, and Small Business of the Year.\n\nWE NEED YOUR NOMINATIONS! Please note that the organization or individual being nominated must be a chamber member. Please answer the following questions in your nomination(s): What business are you nominating? What category are you nominating them for? Why do you believe that they deserve to win in their prospective category? \nEmail connect@cdachamber.com with your nomination for the following categories:\n\n	\n		\n			Large Business of the Year\n		\n		\n			Small Business of the Year\n		\n		\n			Nonprofit of the Year\n		\n		\n			Volunteer of the Year\n		\n		\n			Citizen of the Year\n		\n		\n			Committee of the Year\n		\n	\n\n\nWe have so much to celebrate and we hope to see you there!
X-ALT-DESC;FMTTYPE=text/html:<div style="color: rgb(56\, 56\, 56)\; font-family: Arial\, Verdana\, Helvetica\, sans-serif\; font-size: 14px\; white-space: pre-wrap\;"><span style="box-sizing: border-box\; margin: 0px\; padding: 0px\; border: 0px\; outline: 0px\; font-size: 24px\; text-size-adjust: 100%\; vertical-align: baseline\; background: transparent\; font-family: Arial\, Helvetica\, sans-serif\; color: rgb(8\, 85\, 150)\;"><span style="box-sizing: border-box\; margin: 0px\; padding: 0px\; border: 0px\; outline: 0px\; text-size-adjust: 100%\; vertical-align: baseline\; background: transparent\; font-weight: bolder\;"><span segoe="" style="box-sizing: border-box\; margin: 0px\; padding: 0px\; border: 0px\; outline: 0px\; text-size-adjust: 100%\; vertical-align: baseline\; background: transparent\; font-family: "><span style="box-sizing: border-box\; margin: 0px\; padding: 0px\; border: 0px\; outline: 0px\; text-size-adjust: 100%\; vertical-align: baseline\; background: transparent\; font-family: verdana\;"><span style="box-sizing: border-box\; margin: 0px\; padding: 0px\; border: 0px\; outline: 0px\; text-size-adjust: 100%\; vertical-align: baseline\; background: transparent\; font-family: tahoma\;"><span style="box-sizing: border-box\; margin: 0px\; padding: 0px\; border: 0px\; outline: 0px\; font-size: 14px\; text-size-adjust: 100%\; vertical-align: baseline\; background: transparent\;">_____________________________________________________________________________________________</span></span></span></span></span></span><br />\nPlease join us for the Coeur d&#39\;Alene Regional Chamber&#39\;s annual celebration of its successes of the past year and a look to the challenges of the future. The meeting will include installation of new Officers and giving thanks to outgoing Officers and Board Members.&nbsp\;Member-nominated awards will be presented for the Ed Abbott Volunteer of the Year\, Citizen of the Year and Committee of the Year\, Nonprofit of the Year\, Large Business of the Year\, and Small Business of the Year.<br />\n<span style="font-weight: 600\;">WE NEED YOUR NOMINATIONS! </span>Please note that the organization or individual being nominated must be a chamber member. Please answer the following questions in your nomination(s): What business are you nominating? What category are you nominating them for? Why do you believe that they deserve to win in their prospective category?&nbsp\;\n<div data-paragraph="true">Email <a data-custom="link" href="mailto:connect@cdachamber.com"><span style="color:#2c63d2\;">connect@cdachamber.com</span></a> with your nomination for the following categories:\n<table border="1" cellpadding="1" cellspacing="1" style="width:500px\;">\n	<tbody>\n		<tr>\n			<td>Large Business of the Year</td>\n		</tr>\n		<tr>\n			<td>Small Business of the Year</td>\n		</tr>\n		<tr>\n			<td>Nonprofit of the Year</td>\n		</tr>\n		<tr>\n			<td>Volunteer of the Year</td>\n		</tr>\n		<tr>\n			<td>Citizen of the Year</td>\n		</tr>\n		<tr>\n			<td>Committee of the Year</td>\n		</tr>\n	</tbody>\n</table>\n</div>\n<span style="color:#085596\;"><strong><span style="font-size:18px\;"><span style="font-family:tahoma\;">We have so much to celebrate and we hope to see you there!</span></span></strong></span></div>\n
LOCATION:Coeur d'Alene Resort
UID:e.843.23900
SEQUENCE:3
DTSTAMP:20260423T235758Z
URL:http://directory.cdachamber.com/events/details/110th-annual-meeting-and-awards-banquet-2022-23900
END:VEVENT

END:VCALENDAR
